BEGIN:VCALENDAR
VERSION:2.0
PRODID:-//Wild Rose College of Herbal Medicine - ECPv6.9.0//NONSGML v1.0//EN
CALSCALE:GREGORIAN
METHOD:PUBLISH
X-WR-CALNAME:Wild Rose College of Herbal Medicine
X-ORIGINAL-URL:https://test.wildrosecollege.com
X-WR-CALDESC:Events for Wild Rose College of Herbal Medicine
REFRESH-INTERVAL;VALUE=DURATION:PT1H
X-Robots-Tag:noindex
X-PUBLISHED-TTL:PT1H
BEGIN:VTIMEZONE
TZID:America/Vancouver
BEGIN:DAYLIGHT
TZOFFSETFROM:-0800
TZOFFSETTO:-0700
TZNAME:PDT
DTSTART:20240310T100000
END:DAYLIGHT
BEGIN:STANDARD
TZOFFSETFROM:-0700
TZOFFSETTO:-0800
TZNAME:PST
DTSTART:20241103T090000
END:STANDARD
END:VTIMEZONE
BEGIN:VEVENT
DTSTART;TZID=America/Vancouver:20240608T130000
DTEND;TZID=America/Vancouver:20240608T170000
DTSTAMP:20260419T101900
CREATED:20240516T141042Z
LAST-MODIFIED:20240516T141042Z
UID:395712-1717851600-1717866000@test.wildrosecollege.com
SUMMARY:Toronto Meet Up
DESCRIPTION:Open to current students\, village members\, guest instructors and alumni\, this event will be happening Saturday June 8th from 1-5pm in Toronto’s beautiful High Park and will consist of a 2 hour tea social and herb/seed swap followed by a plant walk!\n\n\nIf you are able to come\, please RSVP here: https://forms.gle/RjA824Uy3irqJDKF6\n\n\nReminder emails with details about where to meet will be going out to all who RSVP a week before the event.
URL:https://test.wildrosecollege.com/event/toronto-meet-up/
LOCATION:High Park – Toronto\, 1873 Bloor st W\, Toronto\, Ontario\, M6R 2Z3\, Canada
ATTACH;FMTTYPE=image/jpeg:https://uploads.wildrosecollege.com/wildrose/uploads/2024/05/Student-Meet-Up-Toronto.jpg
END:VEVENT
BEGIN:VEVENT
DTSTART;TZID=America/Vancouver:20240611T110000
DTEND;TZID=America/Vancouver:20240611T120000
DTSTAMP:20260419T101900
CREATED:20240604T190349Z
LAST-MODIFIED:20240604T190349Z
UID:397461-1718103600-1718107200@test.wildrosecollege.com
SUMMARY:Wild Harvesting - Ask the Instructor Q&A Session
DESCRIPTION:Join Yarrow Willard for a live Q&A session on Wild Harvesting course content! \nDate: June 11\, 2024 \nTime: 11 am Pacific Time \nStudents must register to join the live Zoom session. The link to register will be emailed to eligible students. Please contact Student Services if you did not receive this. \nPlease note that priority will be given to questions emailed in advance. Please email your questions to info@wildrosecollege.com \nOur Ask the Instructor Q&A sessions will be recorded and added to the course content.
URL:https://test.wildrosecollege.com/event/wild-harvesting-ask-the-instructor-qa-session/
CATEGORIES:PHDP 2022
ATTACH;FMTTYPE=image/png:https://uploads.wildrosecollege.com/wildrose/uploads/2024/06/June-2024-QA-Wild-Harvesting.png
END:VEVENT
BEGIN:VEVENT
DTSTART;TZID=America/Vancouver:20240612T183000
DTEND;TZID=America/Vancouver:20240612T193000
DTSTAMP:20260419T101900
CREATED:20240521T211732Z
LAST-MODIFIED:20240528T203704Z
UID:396010-1718217000-1718220600@test.wildrosecollege.com
SUMMARY:Whispers from the Garden: Flower Essence Stories
DESCRIPTION:Led by renowned herbalist Dr. Terry Willard\, this free webinar delves into the significance of Flower Essences in addressing the emotional\, mental\, and spiritual challenges we face in our daily lives. Together\, we’ll explore inspiring success stories behind the use of Flower Essences and how they have empowered individuals to overcome obstacles and thrive\, why Flower Essences are more relevant than ever in today’s fast-paced society\, offering a gentle yet profound approach to holistic healing\, and practical tips on choosing the right Flower Essences for yourself or your clients\, and various methods of daily practice.
URL:https://test.wildrosecollege.com/event/whispers-from-the-garden/
CATEGORIES:Free Webinars
ATTACH;FMTTYPE=image/png:https://uploads.wildrosecollege.com/wildrose/uploads/2024/05/Flower-Essence-Webinar-1.png
END:VEVENT
END:VCALENDAR