BEGIN:VCALENDAR
VERSION:2.0
PRODID:-//Wild Rose College of Herbal Medicine - ECPv6.9.0//NONSGML v1.0//EN
CALSCALE:GREGORIAN
METHOD:PUBLISH
X-ORIGINAL-URL:https://test.wildrosecollege.com
X-WR-CALDESC:Events for Wild Rose College of Herbal Medicine
REFRESH-INTERVAL;VALUE=DURATION:PT1H
X-Robots-Tag:noindex
X-PUBLISHED-TTL:PT1H
BEGIN:VTIMEZONE
TZID:America/Vancouver
BEGIN:DAYLIGHT
TZOFFSETFROM:-0800
TZOFFSETTO:-0700
TZNAME:PDT
DTSTART:20240310T100000
END:DAYLIGHT
BEGIN:STANDARD
TZOFFSETFROM:-0700
TZOFFSETTO:-0800
TZNAME:PST
DTSTART:20241103T090000
END:STANDARD
END:VTIMEZONE
BEGIN:VEVENT
DTSTART;TZID=America/Vancouver:20240508T183000
DTEND;TZID=America/Vancouver:20240508T193000
DTSTAMP:20260419T113647
CREATED:20240418T213550Z
LAST-MODIFIED:20240428T190229Z
UID:392910-1715193000-1715196600@test.wildrosecollege.com
SUMMARY:Nurturing the New Mother
DESCRIPTION:Embark on a practical journey with Herbalist Becky Starling as she leads a webinar on natural support for mothers during the postpartum period. Gain insights into the physical and emotional aspects of new motherhood from both Eastern and Western viewpoints and learn about nutritional and herbal solutions for common postpartum issues. Whether you’re expecting or supporting someone who is\, this webinar equips you with valuable information and recipes for a nourishing start to motherhood.
URL:https://test.wildrosecollege.com/event/nurturing-the-new-mother/
CATEGORIES:Free Webinars
ATTACH;FMTTYPE=image/png:https://uploads.wildrosecollege.com/wildrose/uploads/2024/04/Nurturing-the-New-Mother.png
END:VEVENT
BEGIN:VEVENT
DTSTART;TZID=America/Vancouver:20240514T110000
DTEND;TZID=America/Vancouver:20240514T120000
DTSTAMP:20260419T113647
CREATED:20240425T154728Z
LAST-MODIFIED:20240425T154728Z
UID:393652-1715684400-1715688000@test.wildrosecollege.com
SUMMARY:Botany for Herbalists - Ask the Instructor Q&A Session
DESCRIPTION:Join Dr. Terry Willard for a live Q&A session on Botany for Herbalists course content! \nDate: May 14\, 2024 \nTime: 11 am Pacific Time \nStudents must register to join the live Zoom session. The link to register will be emailed to eligible students. Please contact Student Services if you did not receive this. \nPlease note that priority will be given to questions emailed in advance. Please email your questions to info@wildrosecollege.com \nOur Ask the Instructor Q&A sessions will be recorded and added to the course content.
URL:https://test.wildrosecollege.com/event/botany-for-herbalists-ask-the-instructor-qa-session/
CATEGORIES:PHDP 2022
ATTACH;FMTTYPE=image/png:https://uploads.wildrosecollege.com/wildrose/uploads/2024/04/May-2024-QA-Botany.png
END:VEVENT
BEGIN:VEVENT
DTSTART;TZID=America/Vancouver:20240521T110000
DTEND;TZID=America/Vancouver:20240521T120000
DTSTAMP:20260419T113647
CREATED:20240425T154539Z
LAST-MODIFIED:20240425T154539Z
UID:393179-1716289200-1716292800@test.wildrosecollege.com
SUMMARY:Case Study Roundtable - May 21
DESCRIPTION:In May we will be joined by Clinical Herbalist Megan Kendrick for a live Case Study Roundtable. \nDate: May 21\, 2024 \nTime: 11 am PT \nStudents must register to join the roundtable live on Zoom. The link to register will be emailed to eligible students. Please contact Student Services if you did not receive this. \n*Note that Case Study Roundtables are available to new or upgraded Practical Herbalist and Master Herbalist students and will be offered as a replay for 24 hours only for those who register!
URL:https://test.wildrosecollege.com/event/case-study-roundtable-may-21/
CATEGORIES:MHDP 2023,PHDP 2022
ATTACH;FMTTYPE=image/png:https://uploads.wildrosecollege.com/wildrose/uploads/2024/04/May-2024-Roundtable.png
END:VEVENT
BEGIN:VEVENT
DTSTART;VALUE=DATE:20240522
DTEND;VALUE=DATE:20240523
DTSTAMP:20260419T113647
CREATED:20240509T173030Z
LAST-MODIFIED:20240509T173308Z
UID:394896-1716336000-1716422399@test.wildrosecollege.com
SUMMARY:Homeopathy for Herbalists
DESCRIPTION:Homeopathy is a branch of holistic plant medicine that is gentle\, non-toxic and powerful. It treats an individual from the core of the problem\, treating the whole person on all levels. \n  \nA valuable treatment approach in its own right\, the principles and practice of homeopathy can be used in tandem with other healing methodologies to support health and vitality. \n  \nIn part 1 of this two part series\, clinical herbalist and homeopath Victor Cirone provides an introduction to homeopathic philosophy and practice\, and shares how homeopathy can be useful to practitioners of herbal medicine. available Wednesday May 22nd at 4pm PDT in the Wild Rose Herbal Village and here in the FB group! \n  \nIn part 2\, Victor shares with us some successful case studies from his own practice\, demonstrating how to successfully apply the principles of homeopathy to support clients. Available Wednesday May 29th at 4pm PDT in the Wild Rose Herbal Village and here in the FB group! \n  \n 
URL:https://test.wildrosecollege.com/event/homeopathy-for-herbalists/
LOCATION:Wild Rose Herbal Village
CATEGORIES:Herbal Village
ATTACH;FMTTYPE=image/jpeg:https://uploads.wildrosecollege.com/wildrose/uploads/2024/05/May-Village-Webinar-Graphic-Part-Newsletter.jpg
END:VEVENT
BEGIN:VEVENT
DTSTART;TZID=America/Vancouver:20240528T110000
DTEND;TZID=America/Vancouver:20240528T120000
DTSTAMP:20260419T113647
CREATED:20240425T154429Z
LAST-MODIFIED:20240425T154429Z
UID:393656-1716894000-1716897600@test.wildrosecollege.com
SUMMARY:Applied Phytotherapeutics I - Ask the Instructor Q&A Session
DESCRIPTION:Join Dr. Terry Willard for a live Q&A session on Applied Phytotherapeutics I course content! \nDate: May 28\, 2024 \nTime: 11 am Pacific Time \nStudents must register to join the live Zoom session. The link to register will be emailed to eligible students. Please contact Student Services if you did not receive this. \nPlease note that priority will be given to questions emailed in advance. Please email your questions to info@wildrosecollege.com \nOur Ask the Instructor Q&A sessions will be recorded and added to the course content.
URL:https://test.wildrosecollege.com/event/applied-phytotherapeutics-i-ask-the-instructor-qa-session/
CATEGORIES:MHDP 2023
ATTACH;FMTTYPE=image/png:https://uploads.wildrosecollege.com/wildrose/uploads/2024/04/May-2024-QA-AP-I.png
END:VEVENT
END:VCALENDAR