BEGIN:VCALENDAR
VERSION:2.0
PRODID:-//Wild Rose College of Herbal Medicine - ECPv6.9.0//NONSGML v1.0//EN
CALSCALE:GREGORIAN
METHOD:PUBLISH
X-ORIGINAL-URL:https://test.wildrosecollege.com
X-WR-CALDESC:Events for Wild Rose College of Herbal Medicine
REFRESH-INTERVAL;VALUE=DURATION:PT1H
X-Robots-Tag:noindex
X-PUBLISHED-TTL:PT1H
BEGIN:VTIMEZONE
TZID:America/Vancouver
BEGIN:DAYLIGHT
TZOFFSETFROM:-0800
TZOFFSETTO:-0700
TZNAME:PDT
DTSTART:20240310T100000
END:DAYLIGHT
BEGIN:STANDARD
TZOFFSETFROM:-0700
TZOFFSETTO:-0800
TZNAME:PST
DTSTART:20241103T090000
END:STANDARD
END:VTIMEZONE
BEGIN:VEVENT
DTSTART;TZID=America/Vancouver:20240403T183000
DTEND;TZID=America/Vancouver:20240403T193000
DTSTAMP:20260419T130716
CREATED:20240325T202740Z
LAST-MODIFIED:20240325T202740Z
UID:391349-1712169000-1712172600@test.wildrosecollege.com
SUMMARY:Deep Sea Secrets: A Mermaid's Guide to Vital Health
DESCRIPTION:Dive into the mesmerizing world of seaweed – no matter where you live. \nIn this mini-intensive with Clinical herbalist Angela Willard\, you will learn:\n⁃3 different classifications of seaweeds.\n-Where to harvest seaweed\, ethical harvesting\, drying\, and preparation techniques\, and overall medicinal benefits.\n-How to include seaweed in you & your families’ daily diet and lifestyle for vital health.\n-Interesting uses for seaweed\, and external use and thalassotherapy techniques (seaweed spa).
URL:https://test.wildrosecollege.com/event/deep-sea-secrets/
CATEGORIES:Free Webinars
ATTACH;FMTTYPE=image/png:https://uploads.wildrosecollege.com/wildrose/uploads/2024/03/Apr-3-Deep-Sea-Secrets.png
END:VEVENT
BEGIN:VEVENT
DTSTART;TZID=America/Vancouver:20240409T110000
DTEND;TZID=America/Vancouver:20240409T120000
DTSTAMP:20260419T130717
CREATED:20240325T213251Z
LAST-MODIFIED:20240325T213251Z
UID:391356-1712660400-1712664000@test.wildrosecollege.com
SUMMARY:Seaweed Therapeutics - Ask the Instructor Q&A Session
DESCRIPTION:Join Angela Willard for a live Q&A session on Seaweed Therapeutics course content! \nDate: April 9\, 2024 \nTime: 11 am Pacific Time \nStudents must register to join the live Zoom session. The link to register will be emailed to eligible students (Practical Herbalist\, Master Herbalist\, and Seaweed Therapeutics students). Please contact Student Services if you did not receive this. \nPlease note that priority will be given to questions emailed in advance. Please email your questions to info@wildrosecollege.com \nOur Ask the Instructor Q&A sessions will be recorded and added to the course content.
URL:https://test.wildrosecollege.com/event/seaweed-therapeutics-ask-the-instructor-qa-session/
CATEGORIES:MHDP 2023,PHDP 2022
ATTACH;FMTTYPE=image/png:https://uploads.wildrosecollege.com/wildrose/uploads/2024/03/April-2024-QA-Seaweed.png
END:VEVENT
BEGIN:VEVENT
DTSTART;TZID=America/Vancouver:20240410T120000
DTEND;TZID=America/Vancouver:20240410T130000
DTSTAMP:20260419T130717
CREATED:20240325T212009Z
LAST-MODIFIED:20240325T212009Z
UID:391352-1712750400-1712754000@test.wildrosecollege.com
SUMMARY:Case Study Roundtable - April 10
DESCRIPTION:In April we will be joined by Travis Cartwright for a live Case Study Roundtable. \nDate: April 10\, 2024 \nTime: 12 pm PT \nStudents must register to join the roundtable live on Zoom. The link to register will be emailed to eligible students. Please contact Student Services if you did not receive this. \n*Note that Case Study Roundtables are available to new or upgraded Practical Herbalist and Master Herbalist students and will be offered as a replay for 24 hours only for those who register!
URL:https://test.wildrosecollege.com/event/case-study-roundtable-april-10/
CATEGORIES:MHDP 2023,PHDP 2022
ATTACH;FMTTYPE=image/png:https://uploads.wildrosecollege.com/wildrose/uploads/2024/03/April-2024-Roundtable.png
END:VEVENT
BEGIN:VEVENT
DTSTART;TZID=America/Vancouver:20240415T110000
DTEND;TZID=America/Vancouver:20240415T120000
DTSTAMP:20260419T130717
CREATED:20240326T142409Z
LAST-MODIFIED:20240326T142409Z
UID:391397-1713178800-1713182400@test.wildrosecollege.com
SUMMARY:Cannabis Courses - Ask the Instructor Q&A Session
DESCRIPTION:Join Dr. Terry Willard for a live Q&A session on Cannabis for Healthcare Practitioners & Cannabis Cultivation course content! \nDate: April 15\, 2024 \nTime: 11 am Pacific Time \nStudents must register to join the live Zoom session. The link to register will be emailed to eligible students (Practical Herbalist\, Master Herbalist\, and Cannabis course students). Please contact Student Services if you did not receive this. \nPlease note that priority will be given to questions emailed in advance. Please email your questions to info@wildrosecollege.com \nOur Ask the Instructor Q&A sessions will be recorded and added to the course content.
URL:https://test.wildrosecollege.com/event/cannabis-courses-ask-the-instructor-qa-session/
CATEGORIES:MHDP 2023,PHDP 2022
ATTACH;FMTTYPE=image/png:https://uploads.wildrosecollege.com/wildrose/uploads/2024/03/April-2024-QA-Cannabis.png
END:VEVENT
BEGIN:VEVENT
DTSTART;TZID=America/Vancouver:20240417T150000
DTEND;TZID=America/Vancouver:20240417T160000
DTSTAMP:20260419T130717
CREATED:20240416T191203Z
LAST-MODIFIED:20240416T191203Z
UID:392799-1713366000-1713369600@test.wildrosecollege.com
SUMMARY:Opportunities & Challenges in the World of Herbal Medicine
DESCRIPTION:Join a group of Seasoned Herbalists for an International Herbalist Day special event. In this webinar we will discuss the most important issues currently facing herbal medicine in Canada and around the world today. \nBring your questions and curiosity as we look at topics such as regulations\, building clinical practice\, working with other health care professionals\, compounding\, quality control around herb sourcing\, and more.
URL:https://test.wildrosecollege.com/event/opportunities-challenges-in-the-world-of-herbal-medicine/
CATEGORIES:Free Webinars
ATTACH;FMTTYPE=image/png:https://uploads.wildrosecollege.com/wildrose/uploads/2024/04/Apr-17-Herbalists-Day-3.png
END:VEVENT
BEGIN:VEVENT
DTSTART;VALUE=DATE:20240424
DTEND;VALUE=DATE:20240425
DTSTAMP:20260419T130717
CREATED:20240402T203413Z
LAST-MODIFIED:20240402T203446Z
UID:391894-1713916800-1714003199@test.wildrosecollege.com
SUMMARY:Medicinal Herb Farming
DESCRIPTION:As herbalism regains popularity\, sourcing herbs from quality growers is becoming forefront in many herbalists practice. There is currently a resurgence of medicinal herb cultivators supplying high quality\, ecologically grown herbs. However\, this practice remains small compared to other farming industries and resources can be hard to find.  \n  \nIf you are interested in getting into the world of medicinal herb cultivation our upcoming interview with Jessye Finch\, Registered Herbalist and Farmer at Futur Spell Specialty Herb Farm is not to be missed! Jessye joins Herbal Village Coordinator Megan Kendrick for an interview about all things medicinal herb farming\, including some of the challenges they’ve faced and success they’ve experienced along the journey of establishing the farm.  \n  \nAvailable in the the Wild Rose Herbal Village Wednesday April 24th at 4pm PDT.
URL:https://test.wildrosecollege.com/event/medicinal-herb-farming/
CATEGORIES:Herbal Village
ATTACH;FMTTYPE=image/jpeg:https://uploads.wildrosecollege.com/wildrose/uploads/2024/04/April-Village-Webinar-Graphic-3.jpg
END:VEVENT
END:VCALENDAR