BEGIN:VCALENDAR
VERSION:2.0
PRODID:-//Wild Rose College of Herbal Medicine - ECPv6.9.0//NONSGML v1.0//EN
CALSCALE:GREGORIAN
METHOD:PUBLISH
X-WR-CALNAME:Wild Rose College of Herbal Medicine
X-ORIGINAL-URL:https://test.wildrosecollege.com
X-WR-CALDESC:Events for Wild Rose College of Herbal Medicine
REFRESH-INTERVAL;VALUE=DURATION:PT1H
X-Robots-Tag:noindex
X-PUBLISHED-TTL:PT1H
BEGIN:VTIMEZONE
TZID:America/Vancouver
BEGIN:DAYLIGHT
TZOFFSETFROM:-0800
TZOFFSETTO:-0700
TZNAME:PDT
DTSTART:20240310T100000
END:DAYLIGHT
BEGIN:STANDARD
TZOFFSETFROM:-0700
TZOFFSETTO:-0800
TZNAME:PST
DTSTART:20241103T090000
END:STANDARD
END:VTIMEZONE
BEGIN:VEVENT
DTSTART;TZID=America/Vancouver:20240213T110000
DTEND;TZID=America/Vancouver:20240213T120000
DTSTAMP:20260419T161027
CREATED:20240209T150005Z
LAST-MODIFIED:20240209T150005Z
UID:386946-1707822000-1707825600@test.wildrosecollege.com
SUMMARY:Anatomy & Physiology - Ask the Instructor Q&A Session
DESCRIPTION:Join your instructor\, Petra Sovcov\, for a live Q&A session on Anatomy & Physiology course content! \nDate: February 13\, 2024 \nTime: 11 am Pacific Time \nStudents must register to join the live Zoom session. The link to register will be emailed to eligible students. Please contact Student Services if you did not receive this. \nPlease note that priority will be given to questions emailed in advance. Please email your questions to info@wildrosecollege.com \nOur Ask the Instructor Q&A sessions will be recorded and added to the course content.
URL:https://test.wildrosecollege.com/event/anatomy-physiology-ask-the-instructor-qa-session-2/
CATEGORIES:PHDP 2022
ATTACH;FMTTYPE=image/png:https://uploads.wildrosecollege.com/wildrose/uploads/2024/02/Feb-2024-AP-Ask-the-Instructor.png
END:VEVENT
BEGIN:VEVENT
DTSTART;TZID=America/Vancouver:20240221T160000
DTEND;TZID=America/Vancouver:20240221T160000
DTSTAMP:20260419T161027
CREATED:20240207T221655Z
LAST-MODIFIED:20240207T221900Z
UID:386759-1708531200-1708531200@test.wildrosecollege.com
SUMMARY:Herbs for Contraception
DESCRIPTION:Join Clinical Herbalist Abrah Arneson for an exploration of the history of using plant medicines for contraceptive purposes. This is a topic that is not often discussed even amongst herbalists\, and has been shrouded in mystery and secrecy for many many years. In this fascinating webinar\, Abrah shares the knowledge and wisdom she has gleaned from extensive historical research into the topic of herbal contraceptives and how they have been used to support reproductive health and empowerment. To learn more about this topic\, check out her book The Vessel: Women\, Plants and Contraception.  \n  \nThis webinar will be available in the Wild Rose Herbal Village on Wednesday February 21st at 4pm  PST.
URL:https://test.wildrosecollege.com/event/herbs-for-contraception/
CATEGORIES:Herbal Village
ATTACH;FMTTYPE=image/jpeg:https://uploads.wildrosecollege.com/wildrose/uploads/2024/02/Herbs-for-Contraception-Graphic-3.jpg
END:VEVENT
BEGIN:VEVENT
DTSTART;TZID=America/Vancouver:20240227T110000
DTEND;TZID=America/Vancouver:20240227T120000
DTSTAMP:20260419T161027
CREATED:20240209T150704Z
LAST-MODIFIED:20240209T150704Z
UID:386951-1709031600-1709035200@test.wildrosecollege.com
SUMMARY:Nutrition 101 and Advanced Nutrition - Ask the Instructor Q&A Session
DESCRIPTION:Join your instructor\, Jeananne Laing\, for a live Q&A session on Nutrition 101 and Advanced Nutrition course content! \nDate: February 27\, 2024 \nTime: 11 am Pacific Time \nStudents must register to join the live Zoom session. The link to register will be emailed to eligible students. Please contact Student Services if you did not receive this. \nPlease note that priority will be given to questions emailed in advance. Please email your questions to info@wildrosecollege.com \nOur Ask the Instructor Q&A sessions will be recorded and added to the course content.
URL:https://test.wildrosecollege.com/event/nutrition-101-and-advanced-nutrition-ask-the-instructor-qa-session/
CATEGORIES:MHDP 2023,PHDP 2022
ATTACH;FMTTYPE=image/png:https://uploads.wildrosecollege.com/wildrose/uploads/2024/02/February-2024-Nutrition-Ask-the-Instructor.png
END:VEVENT
BEGIN:VEVENT
DTSTART;TZID=America/Vancouver:20240229T110000
DTEND;TZID=America/Vancouver:20240229T120000
DTSTAMP:20260419T161027
CREATED:20240209T151444Z
LAST-MODIFIED:20240209T151518Z
UID:386954-1709204400-1709208000@test.wildrosecollege.com
SUMMARY:Case Study Roundtable - February 29
DESCRIPTION:In February we will be joined by Amber Lynn Vitale for a live Case Study Roundtable. \nDate: February 29\, 2024 \nTime: 11 am PT \nStudents must register to join the roundtable live on Zoom. The link to register will be emailed to eligible students. Please contact Student Services if you did not receive this. \n*Note that Case Study Roundtables are available to new or upgraded Practical Herbalist and Master Herbalist students and will be offered as a replay for 24 hours only for those who register!
URL:https://test.wildrosecollege.com/event/case-study-roundtable-february-29/
CATEGORIES:MHDP 2023,PHDP 2022
ATTACH;FMTTYPE=image/png:https://uploads.wildrosecollege.com/wildrose/uploads/2024/02/February-2024-Roundtable.png
END:VEVENT
END:VCALENDAR