BEGIN:VCALENDAR
VERSION:2.0
PRODID:-//Wild Rose College of Herbal Medicine - ECPv6.9.0//NONSGML v1.0//EN
CALSCALE:GREGORIAN
METHOD:PUBLISH
X-WR-CALNAME:Wild Rose College of Herbal Medicine
X-ORIGINAL-URL:https://test.wildrosecollege.com
X-WR-CALDESC:Events for Wild Rose College of Herbal Medicine
REFRESH-INTERVAL;VALUE=DURATION:PT1H
X-Robots-Tag:noindex
X-PUBLISHED-TTL:PT1H
BEGIN:VTIMEZONE
TZID:America/Vancouver
BEGIN:DAYLIGHT
TZOFFSETFROM:-0800
TZOFFSETTO:-0700
TZNAME:PDT
DTSTART:20240310T100000
END:DAYLIGHT
BEGIN:STANDARD
TZOFFSETFROM:-0700
TZOFFSETTO:-0800
TZNAME:PST
DTSTART:20241103T090000
END:STANDARD
END:VTIMEZONE
BEGIN:VEVENT
DTSTART;TZID=America/Vancouver:20240117T110000
DTEND;TZID=America/Vancouver:20240117T120000
DTSTAMP:20260419T191540
CREATED:20240109T221454Z
LAST-MODIFIED:20240109T221454Z
UID:382634-1705489200-1705492800@test.wildrosecollege.com
SUMMARY:Case Study Roundtable - January 17th
DESCRIPTION:In January we will be joined by Colleen Emery for a live Case Study Roundtable. \nDate: January 17\, 2024 \nTime: 11 am PT \nStudents must register to join the roundtable live on Zoom. The link to register will be emailed to eligible students. Please contact Student Services if you did not receive this. \n*Note that Case Study Roundtables are available to new or upgraded Practical Herbalist and Master Herbalist students and will be offered as a replay for 24 hours only for those who register!
URL:https://test.wildrosecollege.com/event/case-study-roundtable-january2024/
CATEGORIES:MHDP 2023,PHDP 2022
ATTACH;FMTTYPE=image/png:https://uploads.wildrosecollege.com/wildrose/uploads/2024/01/January-2024-Roundtable.png
END:VEVENT
BEGIN:VEVENT
DTSTART;TZID=America/Vancouver:20240124T183000
DTEND;TZID=America/Vancouver:20240124T193000
DTSTAMP:20260419T191541
CREATED:20240111T190320Z
LAST-MODIFIED:20240111T190639Z
UID:382769-1706121000-1706124600@test.wildrosecollege.com
SUMMARY:How to Set Yourself Up For Success as a Herbalist
DESCRIPTION:Are you passionate about herbalism and eager to carve out a successful career path in this enchanting field? Join Yarrow Willard for our upcoming webinar “How to Set Yourself Up for Success as a Herbalist\,” a must-attend event for anyone serious about a career in herbalism. \n  \nWhat You Will Learn: \nFoundation for Success: Learn how to establish a strong foundation in your herbal journey\, ensuring you start off on the right foot. \nCareer Pathways: Discover the diverse and exciting career opportunities available to herbalists\, and find the path that aligns with your passions and goals. \nPractical Tips & Insights: Gain practical advice and insider insights to navigate the herbalist landscape successfully. \nIncludes a Q&A portion with Wild Rose College Director and webinar host Yarrow Willard!
URL:https://test.wildrosecollege.com/event/how-to-set-yourself-up-for-success-as-a-herbalist/
LOCATION:Wild Rose College of Herbal Medicine
CATEGORIES:Free Webinars
ATTACH;FMTTYPE=image/jpeg:https://uploads.wildrosecollege.com/wildrose/uploads/2024/01/Jan-24-How-to-Set-Yourself-Up-For-Success-as-a-Herbalist-Square.jpg
END:VEVENT
BEGIN:VEVENT
DTSTART;TZID=America/Vancouver:20240125T110000
DTEND;TZID=America/Vancouver:20240125T120000
DTSTAMP:20260419T191541
CREATED:20240109T222515Z
LAST-MODIFIED:20240109T222515Z
UID:382638-1706180400-1706184000@test.wildrosecollege.com
SUMMARY:Business for Herbalists - Ask the Instructor Q&A Session
DESCRIPTION:Join your instructor\, Malcolm Saunders\, for a live Q&A session on Business for Herbalists course content! \nDate: January 25\, 2024 \nTime: 11 am Pacific Time \nStudents must register to join the live Zoom session. The link to register will be emailed to eligible students. Please contact Student Services if you did not receive this. \nPlease note that priority will be given to questions emailed in advance. Please email your questions to info@wildrosecollege.com \nOur Ask the Instructor Q&A sessions will be recorded and added to the course content.
URL:https://test.wildrosecollege.com/event/business-for-herbalists-ask-the-instructor-qa-session/
CATEGORIES:MHDP 2023
ATTACH;FMTTYPE=image/png:https://uploads.wildrosecollege.com/wildrose/uploads/2024/01/January-2024-Business-Ask-the-Instructor.png
END:VEVENT
BEGIN:VEVENT
DTSTART;TZID=America/Vancouver:20240130T110000
DTEND;TZID=America/Vancouver:20240130T120000
DTSTAMP:20260419T191541
CREATED:20240110T152040Z
LAST-MODIFIED:20240110T152040Z
UID:382666-1706612400-1706616000@test.wildrosecollege.com
SUMMARY:Anatomy & Physiology - Ask the Instructor Q&A Session
DESCRIPTION:Join your instructor\, Petra Sovcov\, for a live Q&A session on Anatomy & Physiology course content! \nDate: January 30\, 2024 \nTime: 11 am Pacific Time \nStudents must register to join the live Zoom session. The link to register will be emailed to eligible students. Please contact Student Services if you did not receive this. \nPlease note that priority will be given to questions emailed in advance. Please email your questions to info@wildrosecollege.com \nOur Ask the Instructor Q&A sessions will be recorded and added to the course content.
URL:https://test.wildrosecollege.com/event/anatomy-physiology-ask-the-instructor-qa-session/
CATEGORIES:PHDP 2022
ATTACH;FMTTYPE=image/png:https://uploads.wildrosecollege.com/wildrose/uploads/2024/01/January-2024-AP-Ask-the-Instructor.png
END:VEVENT
BEGIN:VEVENT
DTSTART;VALUE=DATE:20240131
DTEND;VALUE=DATE:20240201
DTSTAMP:20260419T191541
CREATED:20240111T193251Z
LAST-MODIFIED:20240111T194213Z
UID:382776-1706659200-1706745599@test.wildrosecollege.com
SUMMARY:Herbs for Oral Health
DESCRIPTION:Dental care is often seen as being its own department when it comes to healthcare. But\, the teeth and mouth are just as connected to the rest of our body as every other part! In fact\, issues with oral health have been linked to many major diseases of other systems and organs. In this webinar Registered Herbalist and Herbal Village Coordinator Megan Kendrick will dive into the anatomy and physiology of our teeth and mouth\, explore some of the potential issues with modern dental care and discuss natural and herbal supports for optimal oral health.  \n  \nThis webinar will be available Wednesday January 31st at 4pm PST in the Wild Rose Herbal Village!
URL:https://test.wildrosecollege.com/event/herbs-for-oral-health/
LOCATION:Wild Rose Herbal Village
CATEGORIES:Herbal Village
ATTACH;FMTTYPE=image/jpeg:https://uploads.wildrosecollege.com/wildrose/uploads/2024/01/Herbs-for-Oral-Health-Graphic-1-1.jpg
END:VEVENT
END:VCALENDAR