BEGIN:VCALENDAR
VERSION:2.0
PRODID:-//Wild Rose College of Herbal Medicine - ECPv6.9.0//NONSGML v1.0//EN
CALSCALE:GREGORIAN
METHOD:PUBLISH
X-ORIGINAL-URL:https://test.wildrosecollege.com
X-WR-CALDESC:Events for Wild Rose College of Herbal Medicine
REFRESH-INTERVAL;VALUE=DURATION:PT1H
X-Robots-Tag:noindex
X-PUBLISHED-TTL:PT1H
BEGIN:VTIMEZONE
TZID:America/Vancouver
BEGIN:DAYLIGHT
TZOFFSETFROM:-0800
TZOFFSETTO:-0700
TZNAME:PDT
DTSTART:20230312T100000
END:DAYLIGHT
BEGIN:STANDARD
TZOFFSETFROM:-0700
TZOFFSETTO:-0800
TZNAME:PST
DTSTART:20231105T090000
END:STANDARD
END:VTIMEZONE
BEGIN:VEVENT
DTSTART;TZID=America/Vancouver:20231030T160000
DTEND;TZID=America/Vancouver:20231102T160000
DTSTAMP:20260419T205128
CREATED:20231023T163335Z
LAST-MODIFIED:20231215T191422Z
UID:375954-1698681600-1698940800@test.wildrosecollege.com
SUMMARY:The Poison Path: Journeying with the Nightshades
DESCRIPTION:Join Herbal Village Coordinator and Registered Herbalist Megan Kendrick for an exploration of the poisonous nightshades.  \n  \nWhile being potent and deadly poisons\, the poisonous nightshades have a fascinating history of use and have been integrated into the human experience for millennia. With historical applications in medicine\, spirituality and ritual\, extracts from these plants are even used today in modern medicine. In this webinar\, we will explain the unique chemistry of these dangerous plants and go over the mythology\, magic\, spiritual associations and historical uses of three of the most common and very poisonous nightshades\, Belladonna\, Henbane and Datura.  \n  \nThis free public webinar will be available for 72 hours beginning Monday October 30th at 4pm Pacific. Register here! 
URL:https://test.wildrosecollege.com/event/the-poison-path-journeying-with-the-nightshades/
CATEGORIES:Herbal Village
ATTACH;FMTTYPE=image/jpeg:https://uploads.wildrosecollege.com/wildrose/uploads/2023/10/The-Poison-Path-Public-Promo-3.jpg
END:VEVENT
BEGIN:VEVENT
DTSTART;TZID=America/Vancouver:20231108T120000
DTEND;TZID=America/Vancouver:20231108T130000
DTSTAMP:20260419T205128
CREATED:20231020T170021Z
LAST-MODIFIED:20231017T205308Z
UID:375691-1699444800-1699448400@test.wildrosecollege.com
SUMMARY:Western Materia Medica I & II - Ask the Instructor Q&A
DESCRIPTION:Join your instructor\, Terry Willard\, for a live Q&A session on Western Materia Medica I & II course content! \nDate: November 8\, 2023 \nTime: 12 pm Pacific Time \nStudents must register to join the live Zoom session. The link to register will be emailed to eligible students. Please contact Student Services if you did not receive this. \nPlease note that priority will be given to questions emailed in advance. Please email your questions to info@wildrosecollege.com \nOur Ask the Instructor Q&A sessions will be recorded and added to the course content.
URL:https://test.wildrosecollege.com/event/western-materia-medica-i-ii-ask-the-instructor-qa/
CATEGORIES:PHDP 2022
ATTACH;FMTTYPE=image/png:https://uploads.wildrosecollege.com/wildrose/uploads/2023/10/November-2023-WMM-Ask-the-Instructor.png
END:VEVENT
BEGIN:VEVENT
DTSTART;TZID=America/Vancouver:20231121T110000
DTEND;TZID=America/Vancouver:20231121T120000
DTSTAMP:20260419T205128
CREATED:20231020T170046Z
LAST-MODIFIED:20231017T205718Z
UID:375695-1700564400-1700568000@test.wildrosecollege.com
SUMMARY:Traditional Chinese Medicine - Ask the Instructor Q&A Session
DESCRIPTION:Join your instructor\, Tiffany Freeman\, for a live Q&A session on Traditional Chinese Medicine course content! \nDate: November 21\, 2023 \nTime: 11 am Pacific Time \nStudents must register to join the live Zoom session. The link to register will be emailed to eligible students. Please contact Student Services if you did not receive this. \nPlease note that priority will be given to questions emailed in advance. Please email your questions to info@wildrosecollege.com \nOur Ask the Instructor Q&A sessions will be recorded and added to the course content.
URL:https://test.wildrosecollege.com/event/traditional-chinese-medicine-ask-the-instructor-qa-session/
CATEGORIES:MHDP 2023
ATTACH;FMTTYPE=image/png:https://uploads.wildrosecollege.com/wildrose/uploads/2023/10/November-2023-TCM-Ask-the-Instructor.png
END:VEVENT
BEGIN:VEVENT
DTSTART;TZID=America/Vancouver:20231122T160000
DTEND;TZID=America/Vancouver:20231122T160000
DTSTAMP:20260419T205128
CREATED:20231114T161016Z
LAST-MODIFIED:20231114T161522Z
UID:378074-1700668800-1700668800@test.wildrosecollege.com
SUMMARY:In Conversation with Judith Berger
DESCRIPTION:Join Herbal Village Coordinator Megan Kendrick for a conversation with Judith Berger. Judith is a herbalist\, writer and Physician’s Assistant and has been studying and practicing herbal medicine since 1986. She is the author of the beloved book\, Herbal Rituals and publishes her writing regularly on her substack.  \n  \nIn this conversation\, Judith shares stories of her herbal journey\, insights from her experiences with herbs and the magic and medicine of Mugwort\, the plant she talks about in the first chapter of her book. \n  \nYou can find Judith and her writing on her substack\, Medicine of the Forest.
URL:https://test.wildrosecollege.com/event/in-conversation-with-judith-berger/
LOCATION:Wild Rose Herbal Village
CATEGORIES:Herbal Village
ATTACH;FMTTYPE=image/jpeg:https://uploads.wildrosecollege.com/wildrose/uploads/2023/11/Judith-Berger-Interview-Graphic-3.jpg
END:VEVENT
BEGIN:VEVENT
DTSTART;TZID=America/Vancouver:20231126T130000
DTEND;TZID=America/Vancouver:20231126T130000
DTSTAMP:20260419T205128
CREATED:20231116T160433Z
LAST-MODIFIED:20231121T162106Z
UID:378211-1701003600-1701003600@test.wildrosecollege.com
SUMMARY:Wild Rose Student Meet Up - Calgary
DESCRIPTION:Join Wild Rose College Director Yarrow Willard Cl.H. and Herbalist Jeananne Laing Cl.H. for an in-person meet-up in Calgary\, Alberta on Sunday November 26th at 1pm. \n  \nDuring our time together we will discuss herbal practices to incorporate during the winter months\, how to get the most out of your herbal education at Wild Rose College\, and any questions related to herbal medicine that students bring. There is no cost to this event\, but space is limited to active herbal students at Wild Rose College. There will be herbal tea and tinctures to sample. We look forward to connecting in person with all of you who can make it.
URL:https://test.wildrosecollege.com/event/wild-rose-student-meet-up-calgary/
LOCATION:Elevated Learning Academy\, 4014 Macleod Trail #305\, Calgary\, Alberta\, T2G2R6\, Canada
CATEGORIES:In person
ATTACH;FMTTYPE=image/jpeg:https://uploads.wildrosecollege.com/wildrose/uploads/2023/11/Student-Meet-Up-Calgary-5.jpg
END:VEVENT
BEGIN:VEVENT
DTSTART;TZID=America/Vancouver:20231127T113000
DTEND;TZID=America/Vancouver:20231127T123000
DTSTAMP:20260419T205128
CREATED:20231020T170008Z
LAST-MODIFIED:20231017T210204Z
UID:375698-1701084600-1701088200@test.wildrosecollege.com
SUMMARY:Case Study Roundtable - November 27th
DESCRIPTION:In November we will be joined by Sofia Triassi for a live Case Study Roundtable. \nDate: November 27\, 2023 \nTime: 11:30 am PT \nStudents must register to join the roundtable live on Zoom. The link to register will be emailed to eligible students. Please contact Student Services if you did not receive this. \n*Note that Case Study Roundtables are available to new or upgraded Practical Herbalist and Master Herbalist students and will be offered as a replay for 24 hours only for those who register!
URL:https://test.wildrosecollege.com/event/case-study-roundtable-november-27th/
CATEGORIES:MHDP 2023,PHDP 2022
ATTACH;FMTTYPE=image/png:https://uploads.wildrosecollege.com/wildrose/uploads/2023/10/November-2023-Roundtable.png
END:VEVENT
END:VCALENDAR