BEGIN:VCALENDAR
VERSION:2.0
PRODID:-//Wild Rose College of Herbal Medicine - ECPv6.9.0//NONSGML v1.0//EN
CALSCALE:GREGORIAN
METHOD:PUBLISH
X-ORIGINAL-URL:https://test.wildrosecollege.com
X-WR-CALDESC:Events for Wild Rose College of Herbal Medicine
REFRESH-INTERVAL;VALUE=DURATION:PT1H
X-Robots-Tag:noindex
X-PUBLISHED-TTL:PT1H
BEGIN:VTIMEZONE
TZID:America/Vancouver
BEGIN:DAYLIGHT
TZOFFSETFROM:-0800
TZOFFSETTO:-0700
TZNAME:PDT
DTSTART:20230312T100000
END:DAYLIGHT
BEGIN:STANDARD
TZOFFSETFROM:-0700
TZOFFSETTO:-0800
TZNAME:PST
DTSTART:20231105T090000
END:STANDARD
END:VTIMEZONE
BEGIN:VEVENT
DTSTART;TZID=America/Vancouver:20230907T100000
DTEND;TZID=America/Vancouver:20230907T110000
DTSTAMP:20260422T025544
CREATED:20230818T195838Z
LAST-MODIFIED:20230818T200001Z
UID:369638-1694080800-1694084400@test.wildrosecollege.com
SUMMARY:September 7th Roundtable
DESCRIPTION:In September\, we will be joined by Tiffany Freeman for a live Case Study Roundtable that incorporates TCM. \nDate: September 7\, 2023 \nTime: 10 am PT \nStudents must register to join the roundtable on Zoom. The link to register will be emailed to eligible students. Please contact Student Services if you did not receive this. \n*Note that Herbal Roundtables are available to new or upgraded Practical Herbalist and Master Herbalist students and will be offered as a replay for 24 hours only for those who register!
URL:https://test.wildrosecollege.com/event/september-7th-roundtable/
CATEGORIES:MHDP 2023,PHDP 2022
ATTACH;FMTTYPE=image/png:https://uploads.wildrosecollege.com/wildrose/uploads/2023/08/September-2023-Roundtable.png
END:VEVENT
BEGIN:VEVENT
DTSTART;TZID=America/Vancouver:20230907T190000
DTEND;TZID=America/Vancouver:20230907T203000
DTSTAMP:20260422T025544
CREATED:20230901T171727Z
LAST-MODIFIED:20230901T173459Z
UID:371201-1694113200-1694118600@test.wildrosecollege.com
SUMMARY:Herbal Preparations For Seasonal Transitions
DESCRIPTION:Join Yarrow for this Discussion around herbal preparations for the transitions of seasons \nDate: Sept 7th \, 2023 \nTime: 7 pm PT \nREGISTER HERE: Registration \n\n\n\n\n\n\n\n\nFree–all are welcome. Registration required–replays will be available for 48hrs. \n\n 
URL:https://test.wildrosecollege.com/event/herbal-preparations-for-seasonal-transitions/
ATTACH;FMTTYPE=image/png:https://uploads.wildrosecollege.com/wildrose/uploads/2023/09/Herbal-Preparations-for-Seasonal-Transitions-400-×-400-px.png
END:VEVENT
BEGIN:VEVENT
DTSTART;TZID=America/Vancouver:20230913T120000
DTEND;TZID=America/Vancouver:20230913T130000
DTSTAMP:20260422T025544
CREATED:20230818T200557Z
LAST-MODIFIED:20230818T200557Z
UID:369649-1694606400-1694610000@test.wildrosecollege.com
SUMMARY:September 13th Wild Harvesting - Ask the Instructor Q&A
DESCRIPTION:Join your instructor\, Yarrow Willard\, for a live Q&A session on Wild Harvesting course content! \nDate: September 13\, 2023 \nTime: 12 pm Pacific Time \nStudents must register to join the live Zoom session. The link to register will be emailed to eligible students. Please contact Student Services if you did not receive this. \nAs we get a lot of questions on this subject\, priority will be given to questions emailed in advance. Please email your questions to info@wildrosecollege.com \nOur Ask the Instructor Q&A sessions will be recorded and added to the course bonus content.
URL:https://test.wildrosecollege.com/event/september-13th-wild-harvesting-ask-the-instructor-qa/
CATEGORIES:PHDP 2022
ATTACH;FMTTYPE=image/png:https://uploads.wildrosecollege.com/wildrose/uploads/2023/08/September-2023-Ask-the-Instructor.png
END:VEVENT
BEGIN:VEVENT
DTSTART;TZID=America/Vancouver:20230927T160000
DTEND;TZID=America/Vancouver:20230927T170000
DTSTAMP:20260422T025544
CREATED:20230906T153909Z
LAST-MODIFIED:20230906T154531Z
UID:371720-1695830400-1695834000@test.wildrosecollege.com
SUMMARY:A Vitalistic Approach to Pain Management
DESCRIPTION:Join Travis Carthwright of Althaea Herbals for a class on using vitalistic principles and medicinal herbs to support pain relief.  \nPain is one of the most common reasons people seek health support. Unfortunately\, the support many receive is temporary\, inadequate or even addicting\, and often neglects the underlying health challenges people experience. Herbal medicine offers much more beyond symptomatic relief. With herbs we can address deeper patterns that lead to and contribute to the experience of pain\, and shift the ecological landscape of the body and mind to support the innate healing intelligence of the person\, the vital force. \n\nIn this class Travis will provide a vitalistic framework to better understand and assess people and their painful conditions\, and how to select herbal remedies that would best suit various presentations. \nAvailable Wednesday September 27th at 4pm Pacific Time in the Wild Rose Herbal Village and the Facebook group!
URL:https://test.wildrosecollege.com/event/a-vitalistic-approach-to-pain-management/
LOCATION:Wild Rose Herbal Village
CATEGORIES:Herbal Village
ATTACH;FMTTYPE=image/jpeg:https://uploads.wildrosecollege.com/wildrose/uploads/2023/09/Copy-of-A-Vitalistic-Approach-to-Pain-Management-Webinar-Graphic-2.jpg
END:VEVENT
END:VCALENDAR