BEGIN:VCALENDAR
VERSION:2.0
PRODID:-//Wild Rose College of Herbal Medicine - ECPv6.9.0//NONSGML v1.0//EN
CALSCALE:GREGORIAN
METHOD:PUBLISH
X-ORIGINAL-URL:https://test.wildrosecollege.com
X-WR-CALDESC:Events for Wild Rose College of Herbal Medicine
REFRESH-INTERVAL;VALUE=DURATION:PT1H
X-Robots-Tag:noindex
X-PUBLISHED-TTL:PT1H
BEGIN:VTIMEZONE
TZID:America/Vancouver
BEGIN:DAYLIGHT
TZOFFSETFROM:-0800
TZOFFSETTO:-0700
TZNAME:PDT
DTSTART:20230312T100000
END:DAYLIGHT
BEGIN:STANDARD
TZOFFSETFROM:-0700
TZOFFSETTO:-0800
TZNAME:PST
DTSTART:20231105T090000
END:STANDARD
END:VTIMEZONE
BEGIN:VEVENT
DTSTART;TZID=America/Vancouver:20230830T160000
DTEND;TZID=America/Vancouver:20230830T160000
DTSTAMP:20260422T014435
CREATED:20230814T172013Z
LAST-MODIFIED:20230814T172013Z
UID:369019-1693411200-1693411200@test.wildrosecollege.com
SUMMARY:Interesting Mechanisms of How Herbs Really Work
DESCRIPTION:Step into Terry Willard’s captivating world as he takes you on an exciting journey exploring the intricate workings of botanical medicine and its unique impact on our bodies. In this class\, prepare to be enlightened with fresh perspectives and engaging discussions on how these natural remedies operate in ways distinct from their conventional allopathic counterparts. Discover the magic of holistic healing and uncover the secrets of nature’s powerful remedies in a way that’s both expansive and easy to grasp. Get ready to expand your mind and embrace a whole new level of understanding! \n  \n 
URL:https://test.wildrosecollege.com/event/interesting-mechanisms-of-how-herbs-really-work/
CATEGORIES:Herbal Village
ATTACH;FMTTYPE=image/jpeg:https://uploads.wildrosecollege.com/wildrose/uploads/2023/08/Interesting-Mechanisms-of-How-Herbs-Really-Work-3-1.jpg
END:VEVENT
END:VCALENDAR