BEGIN:VCALENDAR
VERSION:2.0
PRODID:-//Wild Rose College of Herbal Medicine - ECPv6.9.0//NONSGML v1.0//EN
CALSCALE:GREGORIAN
METHOD:PUBLISH
X-ORIGINAL-URL:https://test.wildrosecollege.com
X-WR-CALDESC:Events for Wild Rose College of Herbal Medicine
REFRESH-INTERVAL;VALUE=DURATION:PT1H
X-Robots-Tag:noindex
X-PUBLISHED-TTL:PT1H
BEGIN:VTIMEZONE
TZID:America/Vancouver
BEGIN:DAYLIGHT
TZOFFSETFROM:-0800
TZOFFSETTO:-0700
TZNAME:PDT
DTSTART:20220313T100000
END:DAYLIGHT
BEGIN:STANDARD
TZOFFSETFROM:-0700
TZOFFSETTO:-0800
TZNAME:PST
DTSTART:20221106T090000
END:STANDARD
END:VTIMEZONE
BEGIN:VEVENT
DTSTART;TZID=America/Vancouver:20220922T190000
DTEND;TZID=America/Vancouver:20220922T200000
DTSTAMP:20260422T210147
CREATED:20220908T175810Z
LAST-MODIFIED:20220923T001526Z
UID:333481-1663873200-1663876800@test.wildrosecollege.com
SUMMARY:Herbal Medicine Making for Immune Support w/ Yarrow Willard
DESCRIPTION:Herbal Medicine Making for Immune Support with Clinical Herbalist\, Yarrow Willard \nPrep your winter medicine cabinet with effective herbal remedies! \nIn this webinar\, you will learn: \n\nhow to blend teas\nhow to make tinctures\nhow to craft an immune-supporting herbal latte\nhow to make a herbal syrup\n\nYarrow will talk about: \n-formulation considerations for formulating immune medicines \n-benefits of herbs and medicinal mushrooms for deep immune support vs. surface immune support (anti-virals) \nDon’t miss this high octane mini Herbal Pharmacy lesson with one of our countries eminent herbal medicine makers and educators. Yarrow is passionate about herbalism–the People’s Medicine–\, medicine making\, and empowering you with the knowledge to support the health of your communities. \n***Please note that the webinar time is 7pm Pacific Time Zone on Thursday\, September 22.*** \n  \n***Thanks for your interest–however registration for this event is now closed.** \n  \n Yarrow Willard\, Clinical Herbalist\, is a Wild Rose Alumnus\, Instructor\, and our current Director of Wild Rose College of Herbal Medicine. \nHe is an educator\, skilled medicine maker\, and the creator of the  “Herbal Jedi” Youtube Channel. He’s co-owner/creative visionary behind Harmonic Arts with his life and business partner (and fellow Wild Rose Alumna)\, Angela Willard. \n  \nFacebook event for Facebook reminders and to invite and share with friends here.
URL:https://test.wildrosecollege.com/event/medicine-making-immune-support/
CATEGORIES:Free Webinars,Seasonal Webinar
ATTACH;FMTTYPE=image/jpeg:https://uploads.wildrosecollege.com/wildrose/uploads/2022/09/Herbal-Medicine-Making-for-Immune-Support-StyleB-4.jpg
END:VEVENT
END:VCALENDAR