BEGIN:VCALENDAR
VERSION:2.0
PRODID:-//Wild Rose College of Herbal Medicine - ECPv6.9.0//NONSGML v1.0//EN
CALSCALE:GREGORIAN
METHOD:PUBLISH
X-ORIGINAL-URL:https://test.wildrosecollege.com
X-WR-CALDESC:Events for Wild Rose College of Herbal Medicine
REFRESH-INTERVAL;VALUE=DURATION:PT1H
X-Robots-Tag:noindex
X-PUBLISHED-TTL:PT1H
BEGIN:VTIMEZONE
TZID:America/Vancouver
BEGIN:DAYLIGHT
TZOFFSETFROM:-0800
TZOFFSETTO:-0700
TZNAME:PDT
DTSTART:20220313T100000
END:DAYLIGHT
BEGIN:STANDARD
TZOFFSETFROM:-0700
TZOFFSETTO:-0800
TZNAME:PST
DTSTART:20221106T090000
END:STANDARD
END:VTIMEZONE
BEGIN:VEVENT
DTSTART;TZID=America/Vancouver:20220209T160000
DTEND;TZID=America/Vancouver:20220302T120000
DTSTAMP:20260423T051452
CREATED:20220201T170538Z
LAST-MODIFIED:20220201T170828Z
UID:303519-1644422400-1646222400@test.wildrosecollege.com
SUMMARY:Health Justice & Accessibility
DESCRIPTION:Join Herbalists Without Borders Executive Director Denise Cusack for a three-part series and live Q&A session on Health Justice & Herbal Health Accessibility in the Wild Rose Herbal Village. \nClass 1: Accessible Herbalism. February 9\, 4 pm pacific \nIn this one-hour webinar\, students will learn about accessibility\, what that means\, and why it is important. We will review equity and accessibility in herbalism\, explore different tools used to make herbal practice and community models work\, and how they might use those to find a model that works for their own practice.  \nClass 2: Community Supported Herbalism & Accessibility. February 16\, 4 pm pacific \nIn this class\, students will learn more about community-supported herbalism\, and the different ways that herbal wellness can be made accessible to all people\, including those historically excluded and marginalized. We also will explore other community models of empowerment\, education\, and support\, that can be utilized based on need\, and implemented at any scale.  \nClass 3: Using Social Permaculture to Build Collaborative Community Models. February 23\, 4 pm pacific \nIn this final class\, students will review some of the fundamental principles of social permaculture to evaluate how we can use tools to create a framework of collaborative community models to reach those most in need in our own communities.  \nLive Q&A Session: Herbalists Without Borders Q&A. March 2\, 11 am pacific \nIn this session\, Denise Cusack will join us live for a question and answer session on Health Justice\, Herbal and Health Accessibility and how Herbalists without Borders works internationally to provide compassionate holistic care to communities and countries in need impacted by natural disasters\, violent conflicts\, poverty\, trauma and other access barriers to health and wellness. Herbal Village members can find the registration link for the live session in the February Newsletter\, the Herbal Village Facebook group and the Herbal Village Overview page. \nMeet Denise\nDenise Cusack (she/her) is a clinical herbalist\, medicinal herb grower & conservationist\, writer\, regenerative permaculture systems designer\, and artist. Denise works as Executive Director of Herbalists Without Borders and volunteers in free clinics including the Veterans Resiliency Holistic Clinic. Denise is caretaker of her family land\, Lunar Hollow Farm (a UpS Botanical Sanctuary)\, where she grows and preserves hundreds of medicinal plants and endangered natives. Lunar Hollow is also where Denise manages a large herbal US Donation Distribution network serving free clinics\, grows food for her family\, creates resources and opportunities for the herbal community\, and manages a national Seed Grant Program and Seed Library. Denise homeschools her two teenagers and loves to bake\, cook\, ferment\, work in her greenhouse\, grow new things\, forage her land with her family and animals\, and work to landrace plants for her region. She is always learning and continues her education in herbalism\, aromatherapy\, health justice\, permaculture\, trauma informed-care\, disaster relief response\, first aid\, and more. \nDenise serves as Chair on the Board of Directors for the American Herbalists Guild (AHG)\, on the Board of Directors for the Integrative Medicine for the Underserved (IM4US)\, and in various related committees with a focus on Diversity\, Equity\, and Inclusion. Denise received the Daily Point of Light Award in 2021 in recognition of her years of volunteer service for Herbalists Without Borders. \n  \n 
URL:https://test.wildrosecollege.com/event/health-justice-accessibility/
LOCATION:Wild Rose Herbal Village
CATEGORIES:Herbal Intensive
ATTACH;FMTTYPE=image/jpeg:https://uploads.wildrosecollege.com/wildrose/uploads/2022/01/Health-Justice-Accessibility-Intensive-Square-2.jpeg
END:VEVENT
BEGIN:VEVENT
DTSTART;TZID=America/Vancouver:20220316T120000
DTEND;TZID=America/Vancouver:20220316T133000
DTSTAMP:20260423T051452
CREATED:20220225T222313Z
LAST-MODIFIED:20220225T222313Z
UID:307535-1647432000-1647437400@test.wildrosecollege.com
SUMMARY:March Roundtable
DESCRIPTION:Join Clinical Herbalist Bree Nabholz for our next live case study review focused on hormone and reproductive health. Bree will be presenting a case related to heavy and painful menstruation\, discussing her recommended herbal and nutritional care plan as well as answering your questions. \nDate: March 16th\, 2022.  \nTime: 12pm – 1:30pm PST \nStudents must register to join the zoom webinar. The link to register will be emailed to eligible students\, please contact student services if you did not receive this. \n*Note that Herbal Roundtables are available to new or upgraded Practical Herbalist Students and will only be available live\, students will not have access after the fact. \nMeet Bree\nBree is the owner of Wild Yarrow Herbal Medicine Clinic & Dispensary in Edmonton\, AB where she runs a general herbal medicine practice\, with a focus on women’s reproductive health.She is a Registered Professional Member of both the American Herbalists Guild (AHG) and the Alberta Herbalist Association (AHA). She has been practicing clinically for nearly 5 years\, over which time she has offered many workshops locally on topics including herbal energetics\, medicine making\, healthy hormones & herbs for women\, stress & adaptogens and more! Find more information here: www.wildyarrow.ca
URL:https://test.wildrosecollege.com/event/march-roundtable/
LOCATION:Wild Rose College of Herbal Medicine
ATTACH;FMTTYPE=image/jpeg:https://uploads.wildrosecollege.com/wildrose/uploads/2022/02/Case-Study-Roundtable-Mar-16-Square-1.jpg
END:VEVENT
BEGIN:VEVENT
DTSTART;TZID=America/Vancouver:20220324T160000
DTEND;TZID=America/Vancouver:20220324T170000
DTSTAMP:20260423T051452
CREATED:20220315T222924Z
LAST-MODIFIED:20220831T205516Z
UID:307914-1648137600-1648141200@test.wildrosecollege.com
SUMMARY:Seaweed 101: Intro to Seaweeds for Health w/ Angela Willard
DESCRIPTION:Join Angela Willard\, Cl.H. for a free live webinar!\nOn Thursday\, March 24th\, Angela will be taking us on a dive into utilizing seaweeds for health. \nHosted by partner Yarrow Willard in this one-hour free webinar\, learn why consuming seaweeds is one of the most important choices we can make to protect our bodies from environmental pollutants and support our health. \nAngela and Yarrow will explore: \n-What environmental pollutants are common hazards to health\n-Which compounds in seaweeds specifically protect the body from absorbing these toxicants\n-Which compounds in seaweeds can manage the negative impacts pollutants have on the body\n-What seaweed species are best to use in terms of having a proactive environmental health approach \n….basically a crash intro course into how and why seaweeds should be part of our overall preventative health strategies. \nInterested? \nJoin us Thursday\, March 24th\, at 4 pm PST!\nRegister here: Seaweed 101: Intro to Seaweeds for Health w/ Angela Willard \n(Yes\, a replay will be made available for those who register.) \n  \nAbout Angela: Angela Willard has been working in the herbal realm since 2005. \nShe graduated from the Clinical Herbalist program from Wild Rose College of Herbal Medicine in Treaty 7 Territory\, Calgary\, AB. She is co-founder and co-visionary of Harmonic Arts Botanical Dispensary. \nShe is our Instructor for our on-line course “Seaweed Therapeutics“. Learn more about Angela here.
URL:https://test.wildrosecollege.com/event/seaweeds-for-health/
LOCATION:Wild Rose College of Herbal Medicine
CATEGORIES:Live Webinar
ATTACH;FMTTYPE=image/jpeg:https://uploads.wildrosecollege.com/wildrose/uploads/2021/04/AdobeStock_354574941-scaled.jpeg
END:VEVENT
BEGIN:VEVENT
DTSTART;TZID=America/Vancouver:20220328T160000
DTEND;TZID=America/Vancouver:20220328T170000
DTSTAMP:20260423T051452
CREATED:20220302T151313Z
LAST-MODIFIED:20220906T163135Z
UID:307810-1648483200-1648486800@test.wildrosecollege.com
SUMMARY:Cannabis Cultivation
DESCRIPTION:Join Dr. Terry Willard for an introduction to growing cannabis. Terry will discuss important topics such as seed choice\, germination\, propagation as well as the pros and cons of indoor and outdoor growing. \nMonday\, March 28th at 4 pm pacific
URL:https://test.wildrosecollege.com/event/cannabis-cultivation/
LOCATION:Wild Rose Herbal Village
CATEGORIES:Seasonal Webinar
ATTACH;FMTTYPE=image/png:https://uploads.wildrosecollege.com/wildrose/uploads/2022/03/Updated-Cannabis-Graphic-1.png
END:VEVENT
END:VCALENDAR