BEGIN:VCALENDAR
VERSION:2.0
PRODID:-//Wild Rose College of Herbal Medicine - ECPv6.9.0//NONSGML v1.0//EN
CALSCALE:GREGORIAN
METHOD:PUBLISH
X-WR-CALNAME:Wild Rose College of Herbal Medicine
X-ORIGINAL-URL:https://test.wildrosecollege.com
X-WR-CALDESC:Events for Wild Rose College of Herbal Medicine
REFRESH-INTERVAL;VALUE=DURATION:PT1H
X-Robots-Tag:noindex
X-PUBLISHED-TTL:PT1H
BEGIN:VTIMEZONE
TZID:America/Vancouver
BEGIN:DAYLIGHT
TZOFFSETFROM:-0800
TZOFFSETTO:-0700
TZNAME:PDT
DTSTART:20200308T100000
END:DAYLIGHT
BEGIN:STANDARD
TZOFFSETFROM:-0700
TZOFFSETTO:-0800
TZNAME:PST
DTSTART:20201101T090000
END:STANDARD
BEGIN:DAYLIGHT
TZOFFSETFROM:-0800
TZOFFSETTO:-0700
TZNAME:PDT
DTSTART:20210314T100000
END:DAYLIGHT
BEGIN:STANDARD
TZOFFSETFROM:-0700
TZOFFSETTO:-0800
TZNAME:PST
DTSTART:20211107T090000
END:STANDARD
TZID:UTC
BEGIN:STANDARD
TZOFFSETFROM:+0000
TZOFFSETTO:+0000
TZNAME:UTC
DTSTART:20200101T000000
END:STANDARD
END:VTIMEZONE
BEGIN:VEVENT
DTSTART;TZID=America/Vancouver:20210918T110000
DTEND;TZID=America/Vancouver:20210918T120000
DTSTAMP:20260423T002928
CREATED:20210706T225135Z
LAST-MODIFIED:20210706T225135Z
UID:289583-1631962800-1631966400@test.wildrosecollege.com
SUMMARY:Histamine: The Hidden Troublemaker in Healthy Foods & What You Can Do About It
DESCRIPTION:This hour-long presentation is a collaboration between two Nutrition Professionals\, Tracey Reed\, and  Luka Symons.   \nDo you yourself\, or do you see in your clients where symptoms come and go\, without any explanation or clear pattern? Are you supporting complex cases\, where there doesn’t seem to be a clear answer? Do you have clients who have unexpected responses to your herbal recommendations? Have you heard about histamine and wonder how it can play into your role as a practitioner?   \nWe have a class for you!  \nTracey and Luka each have their own journey with discovering the role that Histamine and Mast Cell  Activation play in their symptoms\, and how it was impacting their day-to-day life. They were doing everything right – the bone broth\, the ferments\, the low carb thing\, low lectin\, you name it. They still had struggles. Their constellations of symptoms led them both to uncover the secrets of Histamine  Intolerance and Mast Cell Activation.   \nJoin Tracey and Luka for a presentation on the In the Wild Rose Herbal Village to explore what is happening in the body with Histamine Intolerance and Mast Cell Activation Syndrome. Learn about the symptom profiles to look for\, dive into dietary recommendations\, and targeted supplemental support to help your clients through their symptoms. This will deepen your understanding so that you can better support your clients.  \nJoin the conversation\, September 18th\, 2021\, 11 am pacific. \nLuka Symons is a Holistic Nutrition Practitioner for people who are wondering where their food + body groove has disappeared to. Through her uplifting & informative workshops\, talks and one-on-one consults\, she’s here to shake up your approach to food and your gorgeous self — while making it all feel like a walk in the park. As a former radio host and child #3 of 4\, she isn’t known for being quiet nor shy. When she’s not being all nutrition-y\, you can find her daydreaming of driving her red scooter with a milk crate full of books on the back with her two favourites in tow (husband & daughter)\, on the hunt for the best cup of joe on the planet. Luka works one-on-one with clients via private consultation and runs classes around her adopted hometown of Calgary. Check out both the live and online classes to see what might best suit you! Find out more about Luka here \n  \nTracey is a Certified Holistic Nutritional Consultant\, an instructor at the Canadian School of Natural Nutrition\, recipient of the 2018 Clinical Excellence Award\, and author.  Her clinical practice has a strong focus on the health of the gut microbiome and the intestinal barrier.  Her passion is teaching people how to fix leaky gut and to feed not only themselves but also the organisms living in their gut. She has a strong interest in supporting brain plasticity\, as well as helping people struggling with Histamine Intolerance and Mast Cell Activation Syndrome.
URL:https://test.wildrosecollege.com/event/histamine-the-hidden-troublemaker-in-healthy-foods-what-you-can-do-about-it/
LOCATION:Wild Rose Herbal Village
CATEGORIES:Seasonal Webinar
ATTACH;FMTTYPE=image/png:https://uploads.wildrosecollege.com/wildrose/uploads/2021/07/histamines.png
END:VEVENT
BEGIN:VEVENT
DTSTART;TZID=America/Vancouver:20210322T180000
DTEND;TZID=America/Vancouver:20210327T200000
DTSTAMP:20260423T002928
CREATED:20210224T201901Z
LAST-MODIFIED:20210224T201901Z
UID:280253-1616436000-1616875200@test.wildrosecollege.com
SUMMARY:Medicinal Mushroom Symposium 2021
DESCRIPTION:Medicinal Mushroom Symposium 2021 \nLIVE Online Event \nEach night from March 22nd – March 27th\, 7:00 – 9:00pm\n \n12 sessions over 6 evenings with 2 sessions per evening featuring 1 hr focused deep dives for you to learn directly from world-renown experts on the topic of Medicinal Mushrooms. \nBy attending this online LIVE event you will learn about the latest scientific research\, recipes\, practical wild-harvesting tips\, culinary applications\, growing methods and so much more. \nBe sure not to miss the presentations by: \nDr. https://uploads.wildrosecollege.com/wildrose/uploads/2018/03/Botany03-1024×681-1.jpg author of Reishi: Herb of Medical Wonder & Spiritual Potency \nRobert Rogers author of the Fungal Pharmacy and Medicinal Mushrooms: the Human Clinical Trials \nDavid Wolfe author of the book Chaga: King of the Medicinal Mushrooms \nDerek Fleming of New Earth Organics \nPatrick Kooyman of Blue Lotus Ethnobotanicals \nEric Whitehead of Untamed Feast \nTara Stephens of Fungi Akuafo \nJeff McKay of NeuroGrowth \nDenis Manzer of Forage Your Food \nMalcolm Saunders of Light Cellar
URL:https://test.wildrosecollege.com/event/medicinal-mushroom-symposium-2021/
LOCATION:Light Cellar
ATTACH;FMTTYPE=image/png:https://uploads.wildrosecollege.com/wildrose/uploads/2021/02/Screenshot_2021-02-24-Medicinal-Mushroom-Symposium-March-22nd-27th-2021.png
END:VEVENT
BEGIN:VEVENT
DTSTART;TZID=America/Vancouver:20210303T180000
DTEND;TZID=America/Vancouver:20210303T190000
DTSTAMP:20260423T002928
CREATED:20210224T195951Z
LAST-MODIFIED:20210224T195951Z
UID:280246-1614794400-1614798000@test.wildrosecollege.com
SUMMARY:Free Masterclass: Menopause Naturally
DESCRIPTION:In this free online masterclass\, you will learn: \n\n\n\n\n\n\n\n\n\n\n\n\n\n\n-1- \nThe Power Of Phytoestrogens \n\n\n\n\n\n\nAnd how this little-known natural source of estrogen can reduce your symptoms\, fast! \n\n\n\n\n\n\n-2- \nThe Adrenal-Hormone Connection \n\n\n\n\n\n\nThat is often overlooked and plays a KEY ROLE in keeping your hormones balanced during the menopausal transition (so you can go through menopause as easily as possible!) \n\n\n\n\n\n\n-3- \nThe Natural Menopause Support Checklist \n\n\n\n\n\n\nTo keep you on track in successfully getting through menopause ON YOUR TERMS\, without the use of synthetic hormones. \nA Personal Note & Invitation from Bree\, Clinical Herbalist and Founder of Wild Yarrow Herbal Clinic and Dispensary: \n‘As a clinical herbalist\, I’ve been helping women balance their hormones naturally since I opened my herbal medicine practice\, back in 2016. \nI’ve discovered the strategies that make a BIG difference in how women experience menopause\, and whether or not they get relief from their symptoms. \nThis brand new\, fresh masterclass is a culmination of EVERYTHING I’ve learned about how to transition through the important and powerful life stage of menopause\, all from a holistic perspective. \nIf you’re committed to discovering natural menopausal strategies\, and are ready to put them into action\, then I can’t wait to show you how!’ \nWe hope to see you there. \nTimes are: 6pm Pacific (BC) / 7 pm Mountain time (AB)
URL:https://test.wildrosecollege.com/event/free-masterclass-menopause-naturally/
LOCATION:Wild Yarrow Herbal Medicine Clinic and Dispensary
ATTACH;FMTTYPE=image/jpeg:https://uploads.wildrosecollege.com/wildrose/uploads/2021/02/BirchBree3-P1010765_2-scaled.jpg
END:VEVENT
BEGIN:VEVENT
DTSTART;VALUE=DATE:20201015
DTEND;VALUE=DATE:20201020
DTSTAMP:20260423T002928
CREATED:20200806T072138Z
LAST-MODIFIED:20200820T211314Z
UID:6432-1602720000-1603151999@test.wildrosecollege.com
SUMMARY:2020 AHG Online Symposium
DESCRIPTION:This year’s keynote presenters include Tieraona Low Dog and Leah Penniman. \nTieraona Low Dog\, MD\, is a physician\, author\, and educator. She practiced herbal medicine\, midwifery\, massage therapy\, and martial arts before earning her medical degree from the University of New Mexico School of Medicine. \nLeah Penniman is a Black Kreyol farmer\, author\, mother\, and food justice activist who has been tending the soil and organizing for an anti-racist food system for over 20 years. She currently serves as founding co-executive director of Soul Fire Farm in Grafton\, New York\, a people-of-color led project that works toward food and land justice. \nMore info on the American Herbalist Guild website: \nhttps://www.americanherbalistsguild.com/symposium/join-us-our-31st-annual-symposium \nFind the full schedule for the symposium here. \nReady to sign up? Register here. \n*Wild Rose Herbal College is not an affiliate for the American Herbalist Guild Symposium and we will not be earning commissions if you purchase your Symposium pass through the links provided above. We are a school member of the American Herbalist Guild and deeply appreciate their work!
URL:https://test.wildrosecollege.com/event/2020-ahg-symposium/
LOCATION:American Herbalist Guild
CATEGORIES:Conferences & Symposiums
ATTACH;FMTTYPE=image/jpeg:https://uploads.wildrosecollege.com/wildrose/uploads/2020/08/PHThesisBanner-scaled.jpg
END:VEVENT
BEGIN:VEVENT
DTSTART;TZID=America/Vancouver:20201013T190000
DTEND;TZID=America/Vancouver:20201013T200000
DTSTAMP:20260423T002928
CREATED:20201008T152241Z
LAST-MODIFIED:20201009T150354Z
UID:269610-1602615600-1602619200@test.wildrosecollege.com
SUMMARY:Mushroom Madness Free Webinar
DESCRIPTION:Mushroom Madness: Medicine\, Mycology & More\nJoin us for a free webinar with Wild Rose College Director\, Yarrow Willard on October 13th. \nIn this seasonal offering\, Yarrow will be discussing all things mushrooms: \n-How and where Mushrooms show up in the world\n-Understanding their relationship with people and plants\n-Overview of the basic Chemistry and how to extract the properties of mushrooms\n-Benefits of the top medicinal Mushrooms\n-…and more! \nDate: Tuesday\, October 13\, 2020\nTime: 7pm Pacific (8 pm Mountain\, 9 pm Central\, 10pm Eastern) \nA replay will be available for registrants. \nRegister here to join: \n[gravityform id=”5″ title=”false” description=”false”]
URL:https://test.wildrosecollege.com/event/mushroom-madness-medicine-mycology-more/
CATEGORIES:Free Webinars
ATTACH;FMTTYPE=image/jpeg:https://uploads.wildrosecollege.com/wildrose/uploads/2019/10/Turkey-tail.jpg
END:VEVENT
BEGIN:VEVENT
DTSTART;VALUE=DATE:20201001
DTEND;VALUE=DATE:20201101
DTSTAMP:20260423T002928
CREATED:20200522T024730Z
LAST-MODIFIED:20201001T190238Z
UID:260196-1601510400-1604188799@test.wildrosecollege.com
SUMMARY:October Mushroom Madness
DESCRIPTION:Foraging tips\, mushroom recipes\, prizes\, and more\, along with the return of our seasonal\, limited-time mushroom course (only runs once a year!) \nWhat’s the deal with mushrooms? Why is everyone so obsessed? \nWhether you live in the city or the countryside\, you share your space with mushrooms. Medicinal mushrooms\, edible mushrooms\, poisonous mushrooms\, and even sacred mushrooms. \nYou may not always see them\, but the mycelial network surrounds us everywhere. There are amazing symbiotic relationships that surround us that we aren’t even aware of. \nLearning these relationships and tapping into this wild abundance is a part of reclaiming what is yours: a sense of connection and belonging. All of our ancestors had relationships with mushrooms. Some of us still do. But for those of us that are called to working with mushrooms-who want to rebuild these bridges and start to reclaim lost traditional knowledge- how do we get started? \nJoin us this October for our once-a-year mushroom course. All the details here\n \n  \nNot ready for a full course on wild and medicinal mushrooms with the Herbal Jedi\, Clinical Herbalist Yarrow Willard? \nThen you’ll want to join us for our upcoming FREE webinar on all things mushrooms on October 13th\, 2020. Check back here soon for more details on how to sign up! \nIf you want daily inspiration\, community\, and a group of forager and medicine-making friends\, join our Herbal Village today. The Herbal Village is available via a small membership fee of 9\,97$ a month for ongoing learning and connection. \nDon’t want to pay for your village membership? No problem – enroll in one of our courses or programs\, and get a FREE membership into the Herbal Village. In October and November\, we’re going deep into the world of mycology. See you on the forest side!
URL:https://test.wildrosecollege.com/event/october-mushroom-madness/
LOCATION:Wild Rose Herbal College\, Canada
CATEGORIES:Course & Training
ATTACH;FMTTYPE=image/jpeg:https://uploads.wildrosecollege.com/wildrose/uploads/2020/05/9f7012eb-d53a-4bb8-97b2-f24e9f58990b.jpg
END:VEVENT
BEGIN:VEVENT
DTSTART;TZID=America/Vancouver:20200917T190000
DTEND;TZID=America/Vancouver:20200917T200000
DTSTAMP:20260423T002928
CREATED:20200914T204721Z
LAST-MODIFIED:20200918T145533Z
UID:268158-1600369200-1600372800@test.wildrosecollege.com
SUMMARY:FREE Webinar Sept 17
DESCRIPTION:Herbalism 2020: Ancient Plant Wisdom for a Changing World\nFree Webinar! Watch here: https://www.facebook.com/WildRoseCollege/videos/744439219438831\n\n~\n\nWhat can the ancient craft of Herbalism offer in times of Social Change and upheaval? Is plant medicine even relevant in 2020?\n\n~\n\nJoin Terry & Yarrow Willard as they discuss:\n\n\n– Why learning about Herbal Medicine and taking your health into your own hands is more important now than ever\n\n– The benefits of working with herbs such as Nervines\, Adaptogens\, Medicinal Mushrooms\, and Cannabis during changing times\n\n– How Herbalism and wholistic concepts can work alongside allopathic medicine to create a wider spectrum of health awareness\n\n~\n\nJoin Terry & Yarrow Willard this Thursday evening at 7pm Pacific time live on Facebook to find out! (8 pm Mountain\, 9 pm Central\, 10 pm Eastern).\n\n~\n\nHow to Join: Pop over to our @Wild Rose College of Natural Healing Facebook page\, et voila! You will find Yarrow & Terry will meet you there in the live stream starting at 7 pm Pacific.\n\n~\n\nPlease indicate your response to the event here as “Interested’ or “Going” to get a pre-event reminder and link to the replay.\n\n~\n\n(Yes\, we will be posting the replay here for those of you whose time zones are incompatible.)\n\n~\n\nLooking forward to seeing you there!
URL:https://test.wildrosecollege.com/event/herbalism-2020-plant-wisdom-for-a-changing-world-w-yarrow-terry-willard/
LOCATION:Wild Rose Herbal College\, Canada
CATEGORIES:Free Webinars
ATTACH;FMTTYPE=image/jpeg:https://uploads.wildrosecollege.com/wildrose/uploads/2020/09/Herbalism-2020-Plant-Wisdom-for-a-Changing-World-Square-1.jpg
END:VEVENT
END:VCALENDAR