BEGIN:VCALENDAR
VERSION:2.0
PRODID:-//Wild Rose College of Herbal Medicine - ECPv6.9.0//NONSGML v1.0//EN
CALSCALE:GREGORIAN
METHOD:PUBLISH
X-ORIGINAL-URL:https://test.wildrosecollege.com
X-WR-CALDESC:Events for Wild Rose College of Herbal Medicine
REFRESH-INTERVAL;VALUE=DURATION:PT1H
X-Robots-Tag:noindex
X-PUBLISHED-TTL:PT1H
BEGIN:VTIMEZONE
TZID:America/Vancouver
BEGIN:DAYLIGHT
TZOFFSETFROM:-0800
TZOFFSETTO:-0700
TZNAME:PDT
DTSTART:20210314T100000
END:DAYLIGHT
BEGIN:STANDARD
TZOFFSETFROM:-0700
TZOFFSETTO:-0800
TZNAME:PST
DTSTART:20211107T090000
END:STANDARD
END:VTIMEZONE
BEGIN:VEVENT
DTSTART;TZID=America/Vancouver:20211117T160000
DTEND;TZID=America/Vancouver:20211117T170000
DTSTAMP:20260423T002933
CREATED:20210928T225830Z
LAST-MODIFIED:20210929T192412Z
UID:295204-1637164800-1637168400@test.wildrosecollege.com
SUMMARY:Plants & Planets
DESCRIPTION:Join Herbalist Megan Kendrick in this webinar all about the relationship between plants and planets. She will explore the energetics of plants\, the corresponding energetics and archetypes of planets and how to use this information from an herbalist’s perspective. \nThis 1-hour webinar will cover: \n\nA brief history of medical astrology\nAn overview of herbal energetics\, spectrums\nA discussion of the 7 ancient planets including Sun\, Moon\, Mercury\, Venus\, Mars\, Jupiter\, Saturn\, their energetic signatures\, archetypes and examples of related herbs for each planet\nHow to apply these concepts in your herbal practice \n\nJoin Megan on November 17th\, 4 pm PST in the Wild Rose Village \nMegan grew up feeling most at home in nature and as a child was constantly using flowers and grasses to make magical ‘potions’. She worked for a number of years as a chef\, and her interest in food\, especially wild foods\, led her to begin more seriously studying the medicinal qualities of plants. She began incorporating more herbs into her life and found relief from several conditions that conventional modern medicine had had very little to offer in the way of treatment. These profound healing experiences inspired her to dive deeper into herbal studies and in 2017 she began her first program with Wild Rose College of Natural Healing. The majority of Megan’s training is from the Western Herbal Medicine and Alchemical perspectives\, with additional introductory training in Ayurveda and Traditional Chinese Medicine. For Megan\, being able to support her friends\, family and community’s health\, as well as the health of the earth is as great a responsibility as it is a gift. When she’s not gardening or playing with herbs\, you may find her hiking with her dog\, practicing with one of her bands\, reading or cooking. Find out more about Megan here.
URL:https://test.wildrosecollege.com/event/plants-planets/
LOCATION:Wild Rose Herbal Village
CATEGORIES:Seasonal Webinar
ATTACH;FMTTYPE=image/jpeg:https://uploads.wildrosecollege.com/wildrose/uploads/2021/09/Plants-Planets-Square-rev-3.jpg
END:VEVENT
END:VCALENDAR