BEGIN:VCALENDAR
VERSION:2.0
PRODID:-//Wild Rose College of Herbal Medicine - ECPv6.9.0//NONSGML v1.0//EN
CALSCALE:GREGORIAN
METHOD:PUBLISH
X-ORIGINAL-URL:https://test.wildrosecollege.com
X-WR-CALDESC:Events for Wild Rose College of Herbal Medicine
REFRESH-INTERVAL;VALUE=DURATION:PT1H
X-Robots-Tag:noindex
X-PUBLISHED-TTL:PT1H
BEGIN:VTIMEZONE
TZID:America/Vancouver
BEGIN:DAYLIGHT
TZOFFSETFROM:-0800
TZOFFSETTO:-0700
TZNAME:PDT
DTSTART:20230312T100000
END:DAYLIGHT
BEGIN:STANDARD
TZOFFSETFROM:-0700
TZOFFSETTO:-0800
TZNAME:PST
DTSTART:20231105T090000
END:STANDARD
END:VTIMEZONE
BEGIN:VEVENT
DTSTART;TZID=America/Vancouver:20230315T130000
DTEND;TZID=America/Vancouver:20230315T140000
DTSTAMP:20260423T004242
CREATED:20230303T170631Z
LAST-MODIFIED:20230303T170631Z
UID:356107-1678885200-1678888800@test.wildrosecollege.com
SUMMARY:March 15th Herbal Pharmacy - Ask the Instructor Q&A
DESCRIPTION:Have any questions about Herbal Pharmacy? Join your instructor\, Yarrow Willard\, for a live Q&A session on Herbal Pharmacy course content! \nDate: March 15\, 2023 \nTime: 1 pm Pacific Time \nStudents must register to join the live Zoom session. The link to register will be emailed to eligible students. Please contact Student Services if you did not receive this. \nNot sure if you’re able to attend? You can email your questions to info@wildrosecollege.com \nOur Ask the Instructor Q&A sessions will be recorded and added to the course bonus content. \n 
URL:https://test.wildrosecollege.com/event/march-15th-herbal-pharmacy-ask-the-instructor-qa/
LOCATION:Wild Rose College of Herbal Medicine
CATEGORIES:PHDP 2022
ATTACH;FMTTYPE=image/png:https://uploads.wildrosecollege.com/wildrose/uploads/2023/03/Herbal-Pharmacy-Ask-the-Instructor.png
END:VEVENT
END:VCALENDAR