BEGIN:VCALENDAR
VERSION:2.0
PRODID:-//Wild Rose College of Herbal Medicine - ECPv6.9.0//NONSGML v1.0//EN
CALSCALE:GREGORIAN
METHOD:PUBLISH
X-ORIGINAL-URL:https://test.wildrosecollege.com
X-WR-CALDESC:Events for Wild Rose College of Herbal Medicine
REFRESH-INTERVAL;VALUE=DURATION:PT1H
X-Robots-Tag:noindex
X-PUBLISHED-TTL:PT1H
BEGIN:VTIMEZONE
TZID:America/Vancouver
BEGIN:DAYLIGHT
TZOFFSETFROM:-0800
TZOFFSETTO:-0700
TZNAME:PDT
DTSTART:20230312T100000
END:DAYLIGHT
BEGIN:STANDARD
TZOFFSETFROM:-0700
TZOFFSETTO:-0800
TZNAME:PST
DTSTART:20231105T090000
END:STANDARD
END:VTIMEZONE
BEGIN:VEVENT
DTSTART;TZID=America/Vancouver:20230517T130000
DTEND;TZID=America/Vancouver:20230517T140000
DTSTAMP:20260422T201327
CREATED:20230424T220514Z
LAST-MODIFIED:20230424T220514Z
UID:361022-1684328400-1684332000@test.wildrosecollege.com
SUMMARY:May 17 Wild Harvesting - Ask the Instructor Q&A
DESCRIPTION:Join your instructor\, Yarrow Willard\, for a live Q&A session on Wild Harvesting course content! \nDate: May 17\, 2023 \nTime: 1 pm Pacific Time \nStudents must register to join the live Zoom session. The link to register will be emailed to eligible students. Please contact Student Services if you did not receive this. \nNot sure if you’re able to attend? You can email your questions to info@wildrosecollege.com \nOur Ask the Instructor Q&A sessions will be recorded and added to the course bonus content.
URL:https://test.wildrosecollege.com/event/may-17-wild-harvesting-ask-the-instructor-qa/
LOCATION:Wild Rose College of Herbal Medicine
CATEGORIES:PHDP 2022
ATTACH;FMTTYPE=image/png:https://uploads.wildrosecollege.com/wildrose/uploads/2023/04/May-2023-Ask-the-InstructorWH.png
END:VEVENT
BEGIN:VEVENT
DTSTART;TZID=America/Vancouver:20230524T110000
DTEND;TZID=America/Vancouver:20230524T120000
DTSTAMP:20260422T201327
CREATED:20230424T220723Z
LAST-MODIFIED:20230424T220723Z
UID:361016-1684926000-1684929600@test.wildrosecollege.com
SUMMARY:May 24 Roundtable
DESCRIPTION:In May\, we will be joined by Amber Lynn Vitale for a Case Study Roundtable through an Ayurvedic lens. \nDate: May 24\, 2023 \nTime: 11 am PT \nStudents must register to join the Zoom webinar. The link to register will be emailed to eligible students. Please contact Student Services if you did not receive this. \n*Note that Herbal Roundtables are available to new or upgraded Practical Herbalist and Master Herbalist students and will be offered as a replay for 24 hours only for those who register! \nMeet Amber\n \nAmber Lynn Vitale\, BA\, LMT\, CN\, RYT-200 majored in economics with postgraduate work in medical sciences\, and additional certifications in Integrative Nutrition and in multiple forms of bodywork. Amber became a certified massage therapist in 1996\, a Certified Nutritionist in 1998\, and a certified Ayurvedic Clinical Consultant in 2005. She is the course instructor for Traditional Ayurvedic Medicine at Wild Rose College.
URL:https://test.wildrosecollege.com/event/may-24-roundtable/
LOCATION:Wild Rose College of Herbal Medicine
CATEGORIES:MHDP 2023,PHDP 2022
ATTACH;FMTTYPE=image/png:https://uploads.wildrosecollege.com/wildrose/uploads/2023/04/May-2023-Roundtable.png
END:VEVENT
END:VCALENDAR