BEGIN:VCALENDAR
VERSION:2.0
PRODID:-//Wild Rose College of Herbal Medicine - ECPv6.9.0//NONSGML v1.0//EN
CALSCALE:GREGORIAN
METHOD:PUBLISH
X-ORIGINAL-URL:https://test.wildrosecollege.com
X-WR-CALDESC:Events for Wild Rose College of Herbal Medicine
REFRESH-INTERVAL;VALUE=DURATION:PT1H
X-Robots-Tag:noindex
X-PUBLISHED-TTL:PT1H
BEGIN:VTIMEZONE
TZID:America/Vancouver
BEGIN:DAYLIGHT
TZOFFSETFROM:-0800
TZOFFSETTO:-0700
TZNAME:PDT
DTSTART:20230312T100000
END:DAYLIGHT
BEGIN:STANDARD
TZOFFSETFROM:-0700
TZOFFSETTO:-0800
TZNAME:PST
DTSTART:20231105T090000
END:STANDARD
END:VTIMEZONE
BEGIN:VEVENT
DTSTART;TZID=America/Vancouver:20230405T110000
DTEND;TZID=America/Vancouver:20230405T123000
DTSTAMP:20260422T214906
CREATED:20230324T173839Z
LAST-MODIFIED:20230324T173839Z
UID:358229-1680692400-1680697800@test.wildrosecollege.com
SUMMARY:April 5th Roundtable
DESCRIPTION:In April\, we will be joined by Petra Sovcov for a Case Study Roundtable. \nDate: April 5\, 2023 \nTime: 11 am PT \nStudents must register to join the Zoom webinar. The link to register will be emailed to eligible students. Please contact Student Services if you did not receive this. \n*Note that Herbal Roundtables are available to new or upgraded Practical Herbalist and Master Herbalist students and will be offered as a replay for 24 hours only for those who register! \nMeet Petra\n Petra created our Anatomy & Physiology course and contributes to Q&A sessions and roundtables for Wild Rose College. Petra is a Clinical Herbal Therapist (CHT)\, holds a Doctorate in Natural Medicine (DNM)\, and is a graduate of Dominion Herbal College. Petra owns Healing House Natural Wellness\, a multi modality wellness centre in New Westminster\, BC\, and is passionate about facilitating an individual’s healing path.
URL:https://test.wildrosecollege.com/event/april-5th-roundtable/
LOCATION:Wild Rose College of Herbal Medicine
CATEGORIES:MHDP 2023,PHDP 2022
ATTACH;FMTTYPE=image/png:https://uploads.wildrosecollege.com/wildrose/uploads/2023/03/April-2023-Roundtable.png
END:VEVENT
BEGIN:VEVENT
DTSTART;TZID=America/Vancouver:20230426T110000
DTEND;TZID=America/Vancouver:20230426T120000
DTSTAMP:20260422T214906
CREATED:20230324T175632Z
LAST-MODIFIED:20230324T175632Z
UID:358233-1682506800-1682510400@test.wildrosecollege.com
SUMMARY:April 26 Botany for Herbalists - Ask the Instructor Q&A
DESCRIPTION:Bring your botany questions and join your instructor\, Dr. Terry Willard\, for a live Q&A session on Botany for Herbalists course content! \nDate: April 26\, 2023 \nTime: 11 am Pacific Time \nStudents must register to join the live Zoom session. The link to register will be emailed to eligible students. Please contact Student Services if you did not receive this. \nNot sure if you’re able to attend? You can email your questions to info@wildrosecollege.com \nOur Ask the Instructor Q&A sessions will be recorded and added to the course bonus content.
URL:https://test.wildrosecollege.com/event/april-26-botany-for-herbalists-ask-the-instructor-qa/
LOCATION:Wild Rose College of Herbal Medicine
CATEGORIES:PHDP 2022
ATTACH;FMTTYPE=image/png:https://uploads.wildrosecollege.com/wildrose/uploads/2023/03/April-Botany-for-Herbalists.png
END:VEVENT
END:VCALENDAR