BEGIN:VCALENDAR
VERSION:2.0
PRODID:-//Wild Rose College of Herbal Medicine - ECPv6.9.0//NONSGML v1.0//EN
CALSCALE:GREGORIAN
METHOD:PUBLISH
X-ORIGINAL-URL:https://test.wildrosecollege.com
X-WR-CALDESC:Events for Wild Rose College of Herbal Medicine
REFRESH-INTERVAL;VALUE=DURATION:PT1H
X-Robots-Tag:noindex
X-PUBLISHED-TTL:PT1H
BEGIN:VTIMEZONE
TZID:America/Vancouver
BEGIN:DAYLIGHT
TZOFFSETFROM:-0800
TZOFFSETTO:-0700
TZNAME:PDT
DTSTART:20230312T100000
END:DAYLIGHT
BEGIN:STANDARD
TZOFFSETFROM:-0700
TZOFFSETTO:-0800
TZNAME:PST
DTSTART:20231105T090000
END:STANDARD
END:VTIMEZONE
BEGIN:VEVENT
DTSTART;TZID=America/Vancouver:20230222T110000
DTEND;TZID=America/Vancouver:20230222T123000
DTSTAMP:20260423T004112
CREATED:20230127T174934Z
LAST-MODIFIED:20230216T163919Z
UID:352692-1677063600-1677069000@test.wildrosecollege.com
SUMMARY:February 22nd Roundtable
DESCRIPTION:In February\, we will be joined by Bree Nabholz for a roundtable on hormonal headaches. \nDate: February 22\, 2023 \nTime: 11 am PT – 12:30 pm PT \nStudents must register to join the Zoom webinar. The link to register will be emailed to eligible students. Please contact Student Services if you did not receive this. \n*Note that Herbal Roundtables are available to new or upgraded Practical Herbalist Students and will be offered as a replay for 24 hours only for those who register! \nMeet Bree\n Bree is the Wild Yarrow Herbal Medicine Clinic & Dispensary in Edmonton\, AB where she runs a general herbal medicine practice\, with a focus on women’s reproductive health. She’s a Registered Professional Member of both the American Herbalists Guild (AHG) and the Alberta Herbalist Association (AHA). Bree received her training in Phytotherapy from Pacific Rim College in Victoria\, BC and has been practicing clinically since 2016. She is currently an instructor at Pacific Rim College and Wild Rose College\, where she loves to provide herbal education and mentorship to her students!
URL:https://test.wildrosecollege.com/event/february-22nd-roundtable/
CATEGORIES:MHDP 2023,PHDP 2022
ATTACH;FMTTYPE=image/png:https://uploads.wildrosecollege.com/wildrose/uploads/2023/01/February-2023-Roundtable-Rescheduled.png
END:VEVENT
END:VCALENDAR