BEGIN:VCALENDAR
VERSION:2.0
PRODID:-//Wild Rose College of Herbal Medicine - ECPv6.9.0//NONSGML v1.0//EN
CALSCALE:GREGORIAN
METHOD:PUBLISH
X-ORIGINAL-URL:https://test.wildrosecollege.com
X-WR-CALDESC:Events for Wild Rose College of Herbal Medicine
REFRESH-INTERVAL;VALUE=DURATION:PT1H
X-Robots-Tag:noindex
X-PUBLISHED-TTL:PT1H
BEGIN:VTIMEZONE
TZID:America/Vancouver
BEGIN:DAYLIGHT
TZOFFSETFROM:-0800
TZOFFSETTO:-0700
TZNAME:PDT
DTSTART:20240310T100000
END:DAYLIGHT
BEGIN:STANDARD
TZOFFSETFROM:-0700
TZOFFSETTO:-0800
TZNAME:PST
DTSTART:20241103T090000
END:STANDARD
END:VTIMEZONE
BEGIN:VEVENT
DTSTART;TZID=America/Vancouver:20241008T130000
DTEND;TZID=America/Vancouver:20241008T140000
DTSTAMP:20260419T192008
CREATED:20241001T202131Z
LAST-MODIFIED:20241001T202131Z
UID:408290-1728392400-1728396000@test.wildrosecollege.com
SUMMARY:Business for Herbalists - Ask the Instructor Q&A
DESCRIPTION:Join Malcolm Saunders for a live Q&A session on Business for Herbalists course content! \nDate: October 8\, 2024 \nTime: 1 pm Pacific Time \nStudents must register to join the live Zoom session. The link to register will be emailed to eligible students. Please contact Student Services if you did not receive this. \nPlease note that priority will be given to questions emailed in advance. Please email your questions to info@wildrosecollege.com \nOur Ask the Instructor Q&A sessions will be recorded and added to the course content.
URL:https://test.wildrosecollege.com/event/business-for-herbalists-ask-the-instructor-qa/
CATEGORIES:MHDP 2023
ATTACH;FMTTYPE=image/png:https://uploads.wildrosecollege.com/wildrose/uploads/2024/10/October-2024-Business-Ask-the-Instructor1.png
END:VEVENT
BEGIN:VEVENT
DTSTART;TZID=America/Vancouver:20241015T120000
DTEND;TZID=America/Vancouver:20241015T130000
DTSTAMP:20260419T192008
CREATED:20241001T200522Z
LAST-MODIFIED:20241001T200522Z
UID:408248-1728993600-1728997200@test.wildrosecollege.com
SUMMARY:Case Study Roundtable - October 15
DESCRIPTION:In October we will be joined by Megan Kendrick for a live Case Study Roundtable. \nDate: October 15\, 2024 \nTime: 12 pm PT \nStudents must register to join the roundtable live on Zoom. The link to register will be emailed to eligible students. Please contact Student Services if you did not receive this. \n*Note that Case Study Roundtables are available to new or upgraded Practical Herbalist and Master Herbalist students and will be offered as a replay for 24 hours only for those who register!
URL:https://test.wildrosecollege.com/event/case-study-roundtable-october-15/
CATEGORIES:MHDP 2023,PHDP 2022
ATTACH;FMTTYPE=image/png:https://uploads.wildrosecollege.com/wildrose/uploads/2024/10/October-2024-Roundtable1.png
END:VEVENT
END:VCALENDAR