BEGIN:VCALENDAR
VERSION:2.0
PRODID:-//Wild Rose College of Herbal Medicine - ECPv6.9.0//NONSGML v1.0//EN
CALSCALE:GREGORIAN
METHOD:PUBLISH
X-ORIGINAL-URL:https://test.wildrosecollege.com
X-WR-CALDESC:Events for Wild Rose College of Herbal Medicine
REFRESH-INTERVAL;VALUE=DURATION:PT1H
X-Robots-Tag:noindex
X-PUBLISHED-TTL:PT1H
BEGIN:VTIMEZONE
TZID:America/Vancouver
BEGIN:DAYLIGHT
TZOFFSETFROM:-0800
TZOFFSETTO:-0700
TZNAME:PDT
DTSTART:20220313T100000
END:DAYLIGHT
BEGIN:STANDARD
TZOFFSETFROM:-0700
TZOFFSETTO:-0800
TZNAME:PST
DTSTART:20221106T090000
END:STANDARD
END:VTIMEZONE
BEGIN:VEVENT
DTSTART;TZID=America/Vancouver:20220217T113000
DTEND;TZID=America/Vancouver:20220217T130000
DTSTAMP:20260423T103406
CREATED:20220201T172343Z
LAST-MODIFIED:20220201T172343Z
UID:305236-1645097400-1645102800@test.wildrosecollege.com
SUMMARY:February Herbal Roundtable
DESCRIPTION:Join Clinical Herbalist and Doctor of Natural Medicine Petra Sovcov for our February Herbal Roundtable\, as she discusses the pathology of Hashimoto thyroiditis\, Graves disease and Hypo/Hyperthyroidism\, presenting case studies and recommended care plan including herbs\, supplements as well as dietary and lifestyle modifications. \nDate: February 17th\, 2022.  \nTime: 11:30am – 1pm PST \nStudents must register to join the zoom webinar. The link to register will be emailed to eligible students\, please contact student services if you did not receive this. \n*Note that Herbal Roundtables are available to new or upgraded Practical Herbalist Students and will only be available live\, students will not have access after the fact. \nMeet Petra\nPetra was previously part of the Finlandia Natural Health Centre in Vancouver where she served as  Clinical Herbalist on their team of natural practitioners.  Currently\, she is a staff member at the Institute of Holistic Nutrition where she teaches Nutrition and the Environment (the environmental impact of man-made pollution on the food system and environment)\, as well as Herbal Medicine Studies.  \nShe is an active volunteer with Herbalists Without Borders International (HWB) and serves as co-chair on their board of directors. She also runs the HWB Chapter for Vancouver BC and the free people’s clinic at Healing House. 
URL:https://test.wildrosecollege.com/event/february-herbal-roundtable/
LOCATION:Wild Rose College of Herbal Medicine
CATEGORIES:Herbal Roundtable
ATTACH;FMTTYPE=image/jpeg:https://uploads.wildrosecollege.com/wildrose/uploads/2022/02/Case-Study-Roundtable-Feb17-Square-2.jpeg
END:VEVENT
END:VCALENDAR