BEGIN:VCALENDAR
VERSION:2.0
PRODID:-//Wild Rose College of Herbal Medicine - ECPv6.9.0//NONSGML v1.0//EN
CALSCALE:GREGORIAN
METHOD:PUBLISH
X-ORIGINAL-URL:https://test.wildrosecollege.com
X-WR-CALDESC:Events for Wild Rose College of Herbal Medicine
REFRESH-INTERVAL;VALUE=DURATION:PT1H
X-Robots-Tag:noindex
X-PUBLISHED-TTL:PT1H
BEGIN:VTIMEZONE
TZID:America/Vancouver
BEGIN:DAYLIGHT
TZOFFSETFROM:-0800
TZOFFSETTO:-0700
TZNAME:PDT
DTSTART:20240310T100000
END:DAYLIGHT
BEGIN:STANDARD
TZOFFSETFROM:-0700
TZOFFSETTO:-0800
TZNAME:PST
DTSTART:20241103T090000
END:STANDARD
END:VTIMEZONE
BEGIN:VEVENT
DTSTART;TZID=America/Vancouver:20240828T160000
DTEND;TZID=America/Vancouver:20240828T160000
DTSTAMP:20260419T085952
CREATED:20240814T123424Z
LAST-MODIFIED:20240819T151806Z
UID:403927-1724860800-1724860800@test.wildrosecollege.com
SUMMARY:Mugwort: Single Herb Deep Dive
DESCRIPTION:Join Megan Kendrick\, Registered Herbalist and Herbal Village Coordinator\, for a detailed exploration of the mythology\, magic\, and medicinal uses of mugwort\, Artemisia vulgaris. Mugwort has been revered for centuries for its medicinal properties\, use in rituals\, and role in various cultural traditions. Discover how this powerful herb has been used for everything from digestive health to dream enhancement.\nDon’t miss this opportunity to gain valuable insights into the traditional and modern applications of this powerful herb. \nThis webinar will be available Wednesday Wednesday\, August 28th at 4pm Pacific Time in the Wild Rose Village and the Village Facebook Group.
URL:https://test.wildrosecollege.com/event/mugwort-single-herb-deep-dive/
LOCATION:Wild Rose Herbal Village
CATEGORIES:Herbal Village
ATTACH;FMTTYPE=image/jpeg:https://uploads.wildrosecollege.com/wildrose/uploads/2024/08/Mugwort-Pictures.jpg
END:VEVENT
END:VCALENDAR