BEGIN:VCALENDAR
VERSION:2.0
PRODID:-//Wild Rose College of Herbal Medicine - ECPv6.9.0//NONSGML v1.0//EN
CALSCALE:GREGORIAN
METHOD:PUBLISH
X-ORIGINAL-URL:https://test.wildrosecollege.com
X-WR-CALDESC:Events for Wild Rose College of Herbal Medicine
REFRESH-INTERVAL;VALUE=DURATION:PT1H
X-Robots-Tag:noindex
X-PUBLISHED-TTL:PT1H
BEGIN:VTIMEZONE
TZID:America/Vancouver
BEGIN:DAYLIGHT
TZOFFSETFROM:-0800
TZOFFSETTO:-0700
TZNAME:PDT
DTSTART:20240310T100000
END:DAYLIGHT
BEGIN:STANDARD
TZOFFSETFROM:-0700
TZOFFSETTO:-0800
TZNAME:PST
DTSTART:20241103T090000
END:STANDARD
END:VTIMEZONE
BEGIN:VEVENT
DTSTART;TZID=America/Vancouver:20240827T160000
DTEND;TZID=America/Vancouver:20240827T173000
DTSTAMP:20260419T062424
CREATED:20240820T160018Z
LAST-MODIFIED:20240820T160120Z
UID:404412-1724774400-1724779800@test.wildrosecollege.com
SUMMARY:Herbs for Health - Practical Uses in Daily Life
DESCRIPTION:Are you curious about the power of herbal medicine and how it can enhance your daily life? Join renowned herbalist and Wild Rose College Director\, Yarrow Willard for a workshop on Herbs for Health and learn practical\, hands-on techniques to support your health through the changing seasons. \nIn this live session\, Yarrow Willard will guide you through the essentials of herbal medicine\, offering practical advice and easy-to-follow recipes that you can start using right away. Whether you’re new to herbs or looking to deepen your knowledge\, this webinar is perfect for anyone interested in natural health and wellness.
URL:https://test.wildrosecollege.com/event/herbs-for-health/
CATEGORIES:Free Webinars
ATTACH;FMTTYPE=image/png:https://uploads.wildrosecollege.com/wildrose/uploads/2024/08/Herbs-for-Health-Practical-Uses-in-Daily-Life.png
END:VEVENT
END:VCALENDAR