BEGIN:VCALENDAR
VERSION:2.0
PRODID:-//Wild Rose College of Herbal Medicine - ECPv6.9.0//NONSGML v1.0//EN
CALSCALE:GREGORIAN
METHOD:PUBLISH
X-WR-CALNAME:Wild Rose College of Herbal Medicine
X-ORIGINAL-URL:https://test.wildrosecollege.com
X-WR-CALDESC:Events for Wild Rose College of Herbal Medicine
REFRESH-INTERVAL;VALUE=DURATION:PT1H
X-Robots-Tag:noindex
X-PUBLISHED-TTL:PT1H
BEGIN:VTIMEZONE
TZID:America/Vancouver
BEGIN:DAYLIGHT
TZOFFSETFROM:-0800
TZOFFSETTO:-0700
TZNAME:PDT
DTSTART:20240310T100000
END:DAYLIGHT
BEGIN:STANDARD
TZOFFSETFROM:-0700
TZOFFSETTO:-0800
TZNAME:PST
DTSTART:20241103T090000
END:STANDARD
END:VTIMEZONE
BEGIN:VEVENT
DTSTART;TZID=America/Vancouver:20240403T183000
DTEND;TZID=America/Vancouver:20240403T193000
DTSTAMP:20260419T160242
CREATED:20240325T202740Z
LAST-MODIFIED:20240325T202740Z
UID:391349-1712169000-1712172600@test.wildrosecollege.com
SUMMARY:Deep Sea Secrets: A Mermaid's Guide to Vital Health
DESCRIPTION:Dive into the mesmerizing world of seaweed – no matter where you live. \nIn this mini-intensive with Clinical herbalist Angela Willard\, you will learn:\n⁃3 different classifications of seaweeds.\n-Where to harvest seaweed\, ethical harvesting\, drying\, and preparation techniques\, and overall medicinal benefits.\n-How to include seaweed in you & your families’ daily diet and lifestyle for vital health.\n-Interesting uses for seaweed\, and external use and thalassotherapy techniques (seaweed spa).
URL:https://test.wildrosecollege.com/event/deep-sea-secrets/
CATEGORIES:Free Webinars
ATTACH;FMTTYPE=image/png:https://uploads.wildrosecollege.com/wildrose/uploads/2024/03/Apr-3-Deep-Sea-Secrets.png
END:VEVENT
END:VCALENDAR