BEGIN:VCALENDAR
VERSION:2.0
PRODID:-//Wild Rose College of Herbal Medicine - ECPv6.9.0//NONSGML v1.0//EN
CALSCALE:GREGORIAN
METHOD:PUBLISH
X-ORIGINAL-URL:https://test.wildrosecollege.com
X-WR-CALDESC:Events for Wild Rose College of Herbal Medicine
REFRESH-INTERVAL;VALUE=DURATION:PT1H
X-Robots-Tag:noindex
X-PUBLISHED-TTL:PT1H
BEGIN:VTIMEZONE
TZID:America/Vancouver
BEGIN:DAYLIGHT
TZOFFSETFROM:-0800
TZOFFSETTO:-0700
TZNAME:PDT
DTSTART:20240310T100000
END:DAYLIGHT
BEGIN:STANDARD
TZOFFSETFROM:-0700
TZOFFSETTO:-0800
TZNAME:PST
DTSTART:20241103T090000
END:STANDARD
END:VTIMEZONE
BEGIN:VEVENT
DTSTART;TZID=America/Vancouver:20240306T183000
DTEND;TZID=America/Vancouver:20240306T193000
DTSTAMP:20260419T161121
CREATED:20240220T232129Z
LAST-MODIFIED:20240220T232325Z
UID:387746-1709749800-1709753400@test.wildrosecollege.com
SUMMARY:Awakening with Spring
DESCRIPTION:Dive into the revitalizing power of plant medicine for the spring season. \nIn this mini-intensive with Clinical herbalist Yarrow Willard you will learn:\n⁃ Simple practices for cleansing the liver\, kidneys and digestive system with herbs.\n⁃ Harmonizing efforts for harnessing the energetics of spring.\n⁃ Practical insights and wisdom traditions that support renewal and regeneration.
URL:https://test.wildrosecollege.com/event/awakening-with-spring/
CATEGORIES:Free Webinars
ATTACH;FMTTYPE=image/png:https://uploads.wildrosecollege.com/wildrose/uploads/2024/02/Mar-6-Awakening-with-Spring-1.png
END:VEVENT
END:VCALENDAR