BEGIN:VCALENDAR
VERSION:2.0
PRODID:-//Wild Rose College of Herbal Medicine - ECPv6.9.0//NONSGML v1.0//EN
CALSCALE:GREGORIAN
METHOD:PUBLISH
X-ORIGINAL-URL:https://test.wildrosecollege.com
X-WR-CALDESC:Events for Wild Rose College of Herbal Medicine
REFRESH-INTERVAL;VALUE=DURATION:PT1H
X-Robots-Tag:noindex
X-PUBLISHED-TTL:PT1H
BEGIN:VTIMEZONE
TZID:America/Vancouver
BEGIN:DAYLIGHT
TZOFFSETFROM:-0800
TZOFFSETTO:-0700
TZNAME:PDT
DTSTART:20230312T100000
END:DAYLIGHT
BEGIN:STANDARD
TZOFFSETFROM:-0700
TZOFFSETTO:-0800
TZNAME:PST
DTSTART:20231105T090000
END:STANDARD
END:VTIMEZONE
BEGIN:VEVENT
DTSTART;TZID=America/Vancouver:20230927T160000
DTEND;TZID=America/Vancouver:20230927T170000
DTSTAMP:20260420T014521
CREATED:20230906T153909Z
LAST-MODIFIED:20230906T154531Z
UID:371720-1695830400-1695834000@test.wildrosecollege.com
SUMMARY:A Vitalistic Approach to Pain Management
DESCRIPTION:Join Travis Carthwright of Althaea Herbals for a class on using vitalistic principles and medicinal herbs to support pain relief.  \nPain is one of the most common reasons people seek health support. Unfortunately\, the support many receive is temporary\, inadequate or even addicting\, and often neglects the underlying health challenges people experience. Herbal medicine offers much more beyond symptomatic relief. With herbs we can address deeper patterns that lead to and contribute to the experience of pain\, and shift the ecological landscape of the body and mind to support the innate healing intelligence of the person\, the vital force. \n\nIn this class Travis will provide a vitalistic framework to better understand and assess people and their painful conditions\, and how to select herbal remedies that would best suit various presentations. \nAvailable Wednesday September 27th at 4pm Pacific Time in the Wild Rose Herbal Village and the Facebook group!
URL:https://test.wildrosecollege.com/event/a-vitalistic-approach-to-pain-management/
LOCATION:Wild Rose Herbal Village
CATEGORIES:Herbal Village
ATTACH;FMTTYPE=image/jpeg:https://uploads.wildrosecollege.com/wildrose/uploads/2023/09/Copy-of-A-Vitalistic-Approach-to-Pain-Management-Webinar-Graphic-2.jpg
END:VEVENT
END:VCALENDAR