BEGIN:VCALENDAR
VERSION:2.0
PRODID:-//Wild Rose College of Herbal Medicine - ECPv6.9.0//NONSGML v1.0//EN
CALSCALE:GREGORIAN
METHOD:PUBLISH
X-ORIGINAL-URL:https://test.wildrosecollege.com
X-WR-CALDESC:Events for Wild Rose College of Herbal Medicine
REFRESH-INTERVAL;VALUE=DURATION:PT1H
X-Robots-Tag:noindex
X-PUBLISHED-TTL:PT1H
BEGIN:VTIMEZONE
TZID:America/Vancouver
BEGIN:DAYLIGHT
TZOFFSETFROM:-0800
TZOFFSETTO:-0700
TZNAME:PDT
DTSTART:20230312T100000
END:DAYLIGHT
BEGIN:STANDARD
TZOFFSETFROM:-0700
TZOFFSETTO:-0800
TZNAME:PST
DTSTART:20231105T090000
END:STANDARD
END:VTIMEZONE
BEGIN:VEVENT
DTSTART;TZID=America/Vancouver:20230628T110000
DTEND;TZID=America/Vancouver:20230628T123000
DTSTAMP:20260422T054859
CREATED:20230608T153014Z
LAST-MODIFIED:20230608T153014Z
UID:365017-1687950000-1687955400@test.wildrosecollege.com
SUMMARY:June 28 Roundtable
DESCRIPTION:In June\, we will be joined by Josh Franklin for a live Case Study Roundtable. \nDate: June 28\, 2023 \nTime: 11 am PT \nStudents must register to join the Zoom webinar. The link to register will be emailed to eligible students. Please contact Student Services if you did not receive this. \n*Note that Herbal Roundtables are available to new or upgraded Practical Herbalist and Master Herbalist students and will be offered as a replay for 24 hours only for those who register! \nMeet Josh\nJosh is an instructor of Biomedical Sciences at Pacific Rim College and has been practicing as a herbalist online for 3 years.
URL:https://test.wildrosecollege.com/event/june-28-roundtable/
LOCATION:Wild Rose College of Herbal Medicine
CATEGORIES:MHDP 2023,PHDP 2022
ATTACH;FMTTYPE=image/png:https://uploads.wildrosecollege.com/wildrose/uploads/2023/06/June-2023-Roundtable.png
END:VEVENT
BEGIN:VEVENT
DTSTART;TZID=America/Vancouver:20230628T160000
DTEND;TZID=America/Vancouver:20230628T160000
DTSTAMP:20260422T054859
CREATED:20230615T182921Z
LAST-MODIFIED:20230615T182921Z
UID:365485-1687968000-1687968000@test.wildrosecollege.com
SUMMARY:Chlorella Single Herb Deep Dive
DESCRIPTION:Join Wild Rose College founder\, Dr. Terry Willard in this deep dive about chlorella! Chlorella may not be as trendy as some herbs\, but in this deep dive you’ll hear why Terry considers it one of the most important herbs of his practice\, and why he calls it “the OG of OG’s”.This deep dive will be available Wednesday June 28th at 4pm Pacific in the Wild Rose Herbal Village and in the Herbal Village Facebook group.
URL:https://test.wildrosecollege.com/event/chlorella-single-herb-deep-dive/
LOCATION:Facebook
CATEGORIES:Herbal Village
ATTACH;FMTTYPE=image/jpeg:https://uploads.wildrosecollege.com/wildrose/uploads/2023/06/Chlorella-Single-Herb-Deep-Dive-Graphic-4.jpg
END:VEVENT
END:VCALENDAR