BEGIN:VCALENDAR
VERSION:2.0
PRODID:-//Wild Rose College of Herbal Medicine - ECPv6.9.0//NONSGML v1.0//EN
CALSCALE:GREGORIAN
METHOD:PUBLISH
X-ORIGINAL-URL:https://test.wildrosecollege.com
X-WR-CALDESC:Events for Wild Rose College of Herbal Medicine
REFRESH-INTERVAL;VALUE=DURATION:PT1H
X-Robots-Tag:noindex
X-PUBLISHED-TTL:PT1H
BEGIN:VTIMEZONE
TZID:America/Vancouver
BEGIN:DAYLIGHT
TZOFFSETFROM:-0800
TZOFFSETTO:-0700
TZNAME:PDT
DTSTART:20230312T100000
END:DAYLIGHT
BEGIN:STANDARD
TZOFFSETFROM:-0700
TZOFFSETTO:-0800
TZNAME:PST
DTSTART:20231105T090000
END:STANDARD
END:VTIMEZONE
BEGIN:VEVENT
DTSTART;TZID=America/Vancouver:20230503T110000
DTEND;TZID=America/Vancouver:20230503T120000
DTSTAMP:20260422T085724
CREATED:20230424T220328Z
LAST-MODIFIED:20230424T220328Z
UID:361018-1683111600-1683115200@test.wildrosecollege.com
SUMMARY:May 3 Herb-Drug-Nutrient Interaction - Ask the Instructor Q&A
DESCRIPTION:Have any Herb-Drug-Nutrient Interaction course questions? Join your instructor\, Dr. Terry Willard\, for a live Q&A session on Herb-Drug-Nutrient course content! \nDate: May 3\, 2023 \nTime: 11 am Pacific Time \nStudents must register to join the live Zoom session. The link to register will be emailed to eligible students. Please contact Student Services if you did not receive this. \nNot sure if you’re able to attend? You can email your questions to info@wildrosecollege.com \nOur Ask the Instructor Q&A sessions will be recorded and added to the course bonus content.
URL:https://test.wildrosecollege.com/event/may-3-herb-drug-nutrient-interaction-ask-the-instructor-qa/
LOCATION:Wild Rose College of Herbal Medicine
CATEGORIES:MHDP 2023
ATTACH;FMTTYPE=image/png:https://uploads.wildrosecollege.com/wildrose/uploads/2023/04/May-2023-Ask-the-InstructorHDN.png
END:VEVENT
END:VCALENDAR