BEGIN:VCALENDAR
VERSION:2.0
PRODID:-//Wild Rose College of Herbal Medicine - ECPv6.9.0//NONSGML v1.0//EN
CALSCALE:GREGORIAN
METHOD:PUBLISH
X-ORIGINAL-URL:https://test.wildrosecollege.com
X-WR-CALDESC:Events for Wild Rose College of Herbal Medicine
REFRESH-INTERVAL;VALUE=DURATION:PT1H
X-Robots-Tag:noindex
X-PUBLISHED-TTL:PT1H
BEGIN:VTIMEZONE
TZID:America/Vancouver
BEGIN:DAYLIGHT
TZOFFSETFROM:-0800
TZOFFSETTO:-0700
TZNAME:PDT
DTSTART:20230312T100000
END:DAYLIGHT
BEGIN:STANDARD
TZOFFSETFROM:-0700
TZOFFSETTO:-0800
TZNAME:PST
DTSTART:20231105T090000
END:STANDARD
END:VTIMEZONE
BEGIN:VEVENT
DTSTART;TZID=America/Vancouver:20230308T130000
DTEND;TZID=America/Vancouver:20230308T140000
DTSTAMP:20260422T121834
CREATED:20230301T222403Z
LAST-MODIFIED:20230302T203755Z
UID:355866-1678280400-1678284000@test.wildrosecollege.com
SUMMARY:March 8th Business for Herbalists - Ask the Instructor Q&A
DESCRIPTION:Have a question about Business for Herbalists? Join your instructor\, Malcolm Saunders\, for our live Q&A Ask the Instructor session on Business for Herbalists course content! \nDate: March 8\, 2023 \nTime: 1 pm PT \nStudents must register to join the Zoom webinar. The link to register will be emailed to eligible students. Please contact Student Services if you did not receive this. \nNot sure if you’re able to attend? You can email your question to info@wildrosecollege.com. \nOur Ask the Instructor Q&A sessions will be recorded and added to the course bonus content.
URL:https://test.wildrosecollege.com/event/march-8th-business-for-herbalists-ask-the-instructor-qa/
LOCATION:Wild Rose College of Herbal Medicine
CATEGORIES:MHDP 2023
ATTACH;FMTTYPE=image/png:https://uploads.wildrosecollege.com/wildrose/uploads/2023/03/Ask-the-Instructor-Business-for-Herbalists1.png
END:VEVENT
END:VCALENDAR