BEGIN:VCALENDAR
VERSION:2.0
PRODID:-//Wild Rose College of Herbal Medicine - ECPv6.9.0//NONSGML v1.0//EN
CALSCALE:GREGORIAN
METHOD:PUBLISH
X-ORIGINAL-URL:https://test.wildrosecollege.com
X-WR-CALDESC:Events for Wild Rose College of Herbal Medicine
REFRESH-INTERVAL;VALUE=DURATION:PT1H
X-Robots-Tag:noindex
X-PUBLISHED-TTL:PT1H
BEGIN:VTIMEZONE
TZID:America/Vancouver
BEGIN:DAYLIGHT
TZOFFSETFROM:-0800
TZOFFSETTO:-0700
TZNAME:PDT
DTSTART:20230312T100000
END:DAYLIGHT
BEGIN:STANDARD
TZOFFSETFROM:-0700
TZOFFSETTO:-0800
TZNAME:PST
DTSTART:20231105T090000
END:STANDARD
END:VTIMEZONE
BEGIN:VEVENT
DTSTART;TZID=America/Vancouver:20230125T180000
DTEND;TZID=America/Vancouver:20230125T190000
DTSTAMP:20260422T151056
CREATED:20230117T201518Z
LAST-MODIFIED:20230118T225838Z
UID:350295-1674669600-1674673200@test.wildrosecollege.com
SUMMARY:Grow Your Herbal Business with Intention Live Webinar! January 25th
DESCRIPTION:Grow Your Herbal Business with Intention – Hosted by Yarrow Willard and Malcolm Saunders\nReady to start the business of your dreams? Join Herbal Entrepreneurs Yarrow Willard and Malcolm Saunders for a live webinar on goal and intention setting for your herbal business. \nDon’t miss this opportunity for a mini Business for Herbalists lesson with the visionaries behind very successful businesses\, Harmonic Arts and Light Cellar. \nYarrow and Malcolm will talk about: \n\nKey steps and considerations when starting your business\nInspirational intention setting – limiting beliefs & changing your perspective\nStories – they’ll share wins\, losses and lessons they’ve learned firsthand\nHow to shift your perspective when you think your intentions are not working\n\nWhether you have yet to start or you are already up and running – this webinar will help you take your herbal business to the next level in 2023. \nDate: January 25th\, 2023 \nTime: 6 pm pacific \nRegister Here \n  \nA webinar replay will be available for a limited time to those who register in advance. \nMeet Yarrow\nClinical Herbalist\, Wild Rose Alumnus\, Instructor\, and Director of Wild Rose College of Herbal Medicine. \nCo-owner/creative visionary behind Harmonic Arts with his life and business partner (and fellow Wild Rose Alumna) Angela Willard\, Yarrow is an educator\, skilled medicine maker\, and the creator of the Herbal Jedi” Youtube Channel. \n  \n\nMeet Malcolm\n \nInstructor for our new Business for Herbalists Course and regular contributor to the Wild Rose Herbal Village\, Malcolm is the owner & creative visionary of the Light Cellar. \nAlong with a passion for teaching\, Malcolm is a public speaker\, intuitive chef\, and the author of two books\, ‘Elixir Life: Where Modern Nutrition Meets Ancient Herbal Wisdom’ and ‘Chocolate Life: the Alchemy of Cacao for Flavour\, Function & Feeling’.
URL:https://test.wildrosecollege.com/event/grow-your-herbal-business-with-intention-live-webinar-january-25th/
LOCATION:Wild Rose College of Herbal Medicine
CATEGORIES:Free Webinars,Live Webinar
ATTACH;FMTTYPE=image/jpeg:https://uploads.wildrosecollege.com/wildrose/uploads/2023/01/Grow-your-Herbal-Business-Webinar-Square-4.jpg
END:VEVENT
END:VCALENDAR