BEGIN:VCALENDAR
VERSION:2.0
PRODID:-//Wild Rose College of Herbal Medicine - ECPv6.9.0//NONSGML v1.0//EN
CALSCALE:GREGORIAN
METHOD:PUBLISH
X-ORIGINAL-URL:https://test.wildrosecollege.com
X-WR-CALDESC:Events for Wild Rose College of Herbal Medicine
REFRESH-INTERVAL;VALUE=DURATION:PT1H
X-Robots-Tag:noindex
X-PUBLISHED-TTL:PT1H
BEGIN:VTIMEZONE
TZID:America/Vancouver
BEGIN:DAYLIGHT
TZOFFSETFROM:-0800
TZOFFSETTO:-0700
TZNAME:PDT
DTSTART:20220313T100000
END:DAYLIGHT
BEGIN:STANDARD
TZOFFSETFROM:-0700
TZOFFSETTO:-0800
TZNAME:PST
DTSTART:20221106T090000
END:STANDARD
END:VTIMEZONE
BEGIN:VEVENT
DTSTART;TZID=America/Vancouver:20221122T110000
DTEND;TZID=America/Vancouver:20221122T120000
DTSTAMP:20260422T181343
CREATED:20221102T154703Z
LAST-MODIFIED:20221102T154703Z
UID:342929-1669114800-1669118400@test.wildrosecollege.com
SUMMARY:November 22nd Herbology Advanced Ask the Instructor
DESCRIPTION:Have a question about Herbology Advanced? Join your instructor\, Dr. Terry Willard\, for our live Q&A Ask the Instructor session on Herbology Advanced course content!\nDate: November 22\, 2022 \nTime: 11 am PT – 12:00 pm PT \nStudents must register to join the Zoom webinar. The link to register will be emailed to eligible students. Please contact Student Services if you did not receive this. \nNot sure if you able to attend? You can email your question for Dr. Terry to info@wildrosecollege.com \n* Our Ask the Instructor Q&A sessions will be recorded and added to the course bonus content.
URL:https://test.wildrosecollege.com/event/november-22nd-herbology-advanced-ask-the-instructor/
LOCATION:Wild Rose College of Herbal Medicine
CATEGORIES:PHDP 2022
ATTACH;FMTTYPE=image/png:https://uploads.wildrosecollege.com/wildrose/uploads/2022/11/Herbology-Advanced-Ask-the-Instructor-November-2022.png
END:VEVENT
END:VCALENDAR