BEGIN:VCALENDAR
VERSION:2.0
PRODID:-//Wild Rose College of Herbal Medicine - ECPv6.9.0//NONSGML v1.0//EN
CALSCALE:GREGORIAN
METHOD:PUBLISH
X-WR-CALNAME:Wild Rose College of Herbal Medicine
X-ORIGINAL-URL:https://test.wildrosecollege.com
X-WR-CALDESC:Events for Wild Rose College of Herbal Medicine
REFRESH-INTERVAL;VALUE=DURATION:PT1H
X-Robots-Tag:noindex
X-PUBLISHED-TTL:PT1H
BEGIN:VTIMEZONE
TZID:America/Vancouver
BEGIN:DAYLIGHT
TZOFFSETFROM:-0800
TZOFFSETTO:-0700
TZNAME:PDT
DTSTART:20220313T100000
END:DAYLIGHT
BEGIN:STANDARD
TZOFFSETFROM:-0700
TZOFFSETTO:-0800
TZNAME:PST
DTSTART:20221106T090000
END:STANDARD
END:VTIMEZONE
BEGIN:VEVENT
DTSTART;VALUE=DATE:20220812
DTEND;VALUE=DATE:20220815
DTSTAMP:20260422T223545
CREATED:20220704T144741Z
LAST-MODIFIED:20220831T205346Z
UID:327529-1660262400-1660521599@test.wildrosecollege.com
SUMMARY:Lady Slipper
DESCRIPTION:Two evenings and two days to let your wild\, tender\, curious feminine play. Join 5 herbalists as they share the many gifts plants have for women. We will sing\, dance\, tell stories\, recite a poem or two\, laugh and maybe even cry. \nThis event is for all who identify as the feminine. \nCost: $325 plus HST \nWhere: The Ginkgo Tree – Kina gegoo Botanical Sanctuary\, Cannington Ontario \nWhen: August 12th -14th 2022
URL:https://test.wildrosecollege.com/event/lady-slipper/
ATTACH;FMTTYPE=image/png:https://uploads.wildrosecollege.com/wildrose/uploads/2022/07/Lady-Slipper-social-media-new-main-copy.png
END:VEVENT
END:VCALENDAR