BEGIN:VCALENDAR
VERSION:2.0
PRODID:-//Wild Rose College of Herbal Medicine - ECPv6.9.0//NONSGML v1.0//EN
CALSCALE:GREGORIAN
METHOD:PUBLISH
X-ORIGINAL-URL:https://test.wildrosecollege.com
X-WR-CALDESC:Events for Wild Rose College of Herbal Medicine
REFRESH-INTERVAL;VALUE=DURATION:PT1H
X-Robots-Tag:noindex
X-PUBLISHED-TTL:PT1H
BEGIN:VTIMEZONE
TZID:America/Vancouver
BEGIN:DAYLIGHT
TZOFFSETFROM:-0800
TZOFFSETTO:-0700
TZNAME:PDT
DTSTART:20220313T100000
END:DAYLIGHT
BEGIN:STANDARD
TZOFFSETFROM:-0700
TZOFFSETTO:-0800
TZNAME:PST
DTSTART:20221106T090000
END:STANDARD
END:VTIMEZONE
BEGIN:VEVENT
DTSTART;TZID=America/Vancouver:20220417T150000
DTEND;TZID=America/Vancouver:20220727T000000
DTSTAMP:20260423T034959
CREATED:20220417T193415Z
LAST-MODIFIED:20230519T194412Z
UID:363852-1650207600-1658880000@test.wildrosecollege.com
SUMMARY:Community Plant Observations
DESCRIPTION:Notice any plants or mushrooms ready for harvest in your garden or around you? We’re collecting the community’s plant observations! To learn more and submit your plant observations\, check out this page \nYou can also check out our community wildcrafting map we made with the data we collected from the community already! To use it\, select the month and click on a map marker to see what was ready for harvest. Submitting your plant observations will help us grow this map!
URL:https://test.wildrosecollege.com/event/community-plant-observations/
LOCATION:Facebook
CATEGORIES:Herbal Village
ATTACH;FMTTYPE=image/jpeg:https://uploads.wildrosecollege.com/wildrose/uploads/2022/08/Copy-of-Copy-of-Community-Plant-Observations-1.jpg
END:VEVENT
BEGIN:VEVENT
DTSTART;TZID=America/Vancouver:20220511T120000
DTEND;TZID=America/Vancouver:20220511T133000
DTSTAMP:20260423T034959
CREATED:20220426T153141Z
LAST-MODIFIED:20220831T214539Z
UID:321726-1652270400-1652275800@test.wildrosecollege.com
SUMMARY:May Roundtable
DESCRIPTION:In May\, we will be joined by Clinical Herbalist\, Todd Caldecott for our next live case study!  Todd will be discussing nutritional\, Western herbalism and Ayurvedic approaches for the treatment of Graves disease. \nDate: May 11th\, 2022 \nTime: 12pm-1:30pm pacific \nStudents must register to join the zoom webinar. The link to register will be emailed to eligible students\, please contact student services if you did not receive this. \n*Note that Herbal Roundtables are available to new or upgraded Practical Herbalist Students and will now be offered as a replay for 24 hours only for those who register!! \nMeet Todd \nTodd began training as a clinician in herbal medicine in 1992 during a search to resolve a chronic digestive disorder acquired while travelling in India. After meeting Ayurvedic physician Dr. T. Sukumaran who helped him resolve his condition\, Todd found a change of career and went on to train as a medical herbalist. \nHe studied Ayurveda in India\, and later became the Clinical Director of Wild Rose College of Natural Healing and published a textbook in Ayurveda. He has been in clinical practice since 1995. Read more here.
URL:https://test.wildrosecollege.com/event/may-roundtable/
LOCATION:Wild Rose College of Herbal Medicine
CATEGORIES:Herbal Roundtable
ATTACH;FMTTYPE=image/jpeg:https://uploads.wildrosecollege.com/wildrose/uploads/2022/04/Case-Study-Roundtable-May-11-Square-2.jpeg
END:VEVENT
END:VCALENDAR