BEGIN:VCALENDAR
VERSION:2.0
PRODID:-//Wild Rose College of Herbal Medicine - ECPv6.9.0//NONSGML v1.0//EN
CALSCALE:GREGORIAN
METHOD:PUBLISH
X-WR-CALNAME:Wild Rose College of Herbal Medicine
X-ORIGINAL-URL:https://test.wildrosecollege.com
X-WR-CALDESC:Events for Wild Rose College of Herbal Medicine
REFRESH-INTERVAL;VALUE=DURATION:PT1H
X-Robots-Tag:noindex
X-PUBLISHED-TTL:PT1H
BEGIN:VTIMEZONE
TZID:America/Vancouver
BEGIN:DAYLIGHT
TZOFFSETFROM:-0800
TZOFFSETTO:-0700
TZNAME:PDT
DTSTART:20220313T100000
END:DAYLIGHT
BEGIN:STANDARD
TZOFFSETFROM:-0700
TZOFFSETTO:-0800
TZNAME:PST
DTSTART:20221106T090000
END:STANDARD
END:VTIMEZONE
BEGIN:VEVENT
DTSTART;TZID=America/Vancouver:20220406T160000
DTEND;TZID=America/Vancouver:20220427T170000
DTSTAMP:20260423T051332
CREATED:20220314T201112Z
LAST-MODIFIED:20220831T220946Z
UID:308502-1649260800-1651078800@test.wildrosecollege.com
SUMMARY:From Student to Professional Herbalist: Herbal Association Interviews
DESCRIPTION:In this series of 4 videos\, Megan Kendrick interviews representatives of the provincial herbal associations of BC\, Alberta\, Quebec and Nova Scotia. We discuss why herbal associations are relevant\, what they provide and why you should become a member – even as a herbal student!  \nThey will cover the educational requirements to professional membership with each association\, as well as other types of membership that may be available.  \n 
URL:https://test.wildrosecollege.com/event/from-student-to-professional-herbalist-herbal-association-interviews/
LOCATION:Wild Rose Herbal Village
CATEGORIES:Herbal Intensive
ATTACH;FMTTYPE=image/jpeg:https://uploads.wildrosecollege.com/wildrose/uploads/2022/03/From-Student-to-Professional-Herbalist-Apr-6-3.jpg
END:VEVENT
END:VCALENDAR