BEGIN:VCALENDAR
VERSION:2.0
PRODID:-//Wild Rose College of Herbal Medicine - ECPv6.9.0//NONSGML v1.0//EN
CALSCALE:GREGORIAN
METHOD:PUBLISH
X-ORIGINAL-URL:https://test.wildrosecollege.com
X-WR-CALDESC:Events for Wild Rose College of Herbal Medicine
REFRESH-INTERVAL;VALUE=DURATION:PT1H
X-Robots-Tag:noindex
X-PUBLISHED-TTL:PT1H
BEGIN:VTIMEZONE
TZID:America/Vancouver
BEGIN:DAYLIGHT
TZOFFSETFROM:-0800
TZOFFSETTO:-0700
TZNAME:PDT
DTSTART:20210314T100000
END:DAYLIGHT
BEGIN:STANDARD
TZOFFSETFROM:-0700
TZOFFSETTO:-0800
TZNAME:PST
DTSTART:20211107T090000
END:STANDARD
END:VTIMEZONE
BEGIN:VEVENT
DTSTART;TZID=America/Vancouver:20210303T180000
DTEND;TZID=America/Vancouver:20210303T190000
DTSTAMP:20260424T004846
CREATED:20210224T195951Z
LAST-MODIFIED:20210224T195951Z
UID:280246-1614794400-1614798000@test.wildrosecollege.com
SUMMARY:Free Masterclass: Menopause Naturally
DESCRIPTION:In this free online masterclass\, you will learn: \n\n\n\n\n\n\n\n\n\n\n\n\n\n\n-1- \nThe Power Of Phytoestrogens \n\n\n\n\n\n\nAnd how this little-known natural source of estrogen can reduce your symptoms\, fast! \n\n\n\n\n\n\n-2- \nThe Adrenal-Hormone Connection \n\n\n\n\n\n\nThat is often overlooked and plays a KEY ROLE in keeping your hormones balanced during the menopausal transition (so you can go through menopause as easily as possible!) \n\n\n\n\n\n\n-3- \nThe Natural Menopause Support Checklist \n\n\n\n\n\n\nTo keep you on track in successfully getting through menopause ON YOUR TERMS\, without the use of synthetic hormones. \nA Personal Note & Invitation from Bree\, Clinical Herbalist and Founder of Wild Yarrow Herbal Clinic and Dispensary: \n‘As a clinical herbalist\, I’ve been helping women balance their hormones naturally since I opened my herbal medicine practice\, back in 2016. \nI’ve discovered the strategies that make a BIG difference in how women experience menopause\, and whether or not they get relief from their symptoms. \nThis brand new\, fresh masterclass is a culmination of EVERYTHING I’ve learned about how to transition through the important and powerful life stage of menopause\, all from a holistic perspective. \nIf you’re committed to discovering natural menopausal strategies\, and are ready to put them into action\, then I can’t wait to show you how!’ \nWe hope to see you there. \nTimes are: 6pm Pacific (BC) / 7 pm Mountain time (AB)
URL:https://test.wildrosecollege.com/event/free-masterclass-menopause-naturally/
LOCATION:Wild Yarrow Herbal Medicine Clinic and Dispensary
ATTACH;FMTTYPE=image/jpeg:https://uploads.wildrosecollege.com/wildrose/uploads/2021/02/BirchBree3-P1010765_2-scaled.jpg
END:VEVENT
END:VCALENDAR