BEGIN:VCALENDAR
VERSION:2.0
PRODID:-//Wild Rose College of Herbal Medicine - ECPv6.9.0//NONSGML v1.0//EN
CALSCALE:GREGORIAN
METHOD:PUBLISH
X-ORIGINAL-URL:https://test.wildrosecollege.com
X-WR-CALDESC:Events for Wild Rose College of Herbal Medicine
REFRESH-INTERVAL;VALUE=DURATION:PT1H
X-Robots-Tag:noindex
X-PUBLISHED-TTL:PT1H
BEGIN:VTIMEZONE
TZID:UTC
BEGIN:STANDARD
TZOFFSETFROM:+0000
TZOFFSETTO:+0000
TZNAME:UTC
DTSTART:20200101T000000
END:STANDARD
TZID:America/Vancouver
BEGIN:DAYLIGHT
TZOFFSETFROM:-0800
TZOFFSETTO:-0700
TZNAME:PDT
DTSTART:20200308T100000
END:DAYLIGHT
BEGIN:STANDARD
TZOFFSETFROM:-0700
TZOFFSETTO:-0800
TZNAME:PST
DTSTART:20201101T090000
END:STANDARD
END:VTIMEZONE
BEGIN:VEVENT
DTSTART;VALUE=DATE:20201001
DTEND;VALUE=DATE:20201101
DTSTAMP:20260424T073549
CREATED:20200522T024730Z
LAST-MODIFIED:20201001T190238Z
UID:260196-1601510400-1604188799@test.wildrosecollege.com
SUMMARY:October Mushroom Madness
DESCRIPTION:Foraging tips\, mushroom recipes\, prizes\, and more\, along with the return of our seasonal\, limited-time mushroom course (only runs once a year!) \nWhat’s the deal with mushrooms? Why is everyone so obsessed? \nWhether you live in the city or the countryside\, you share your space with mushrooms. Medicinal mushrooms\, edible mushrooms\, poisonous mushrooms\, and even sacred mushrooms. \nYou may not always see them\, but the mycelial network surrounds us everywhere. There are amazing symbiotic relationships that surround us that we aren’t even aware of. \nLearning these relationships and tapping into this wild abundance is a part of reclaiming what is yours: a sense of connection and belonging. All of our ancestors had relationships with mushrooms. Some of us still do. But for those of us that are called to working with mushrooms-who want to rebuild these bridges and start to reclaim lost traditional knowledge- how do we get started? \nJoin us this October for our once-a-year mushroom course. All the details here\n \n  \nNot ready for a full course on wild and medicinal mushrooms with the Herbal Jedi\, Clinical Herbalist Yarrow Willard? \nThen you’ll want to join us for our upcoming FREE webinar on all things mushrooms on October 13th\, 2020. Check back here soon for more details on how to sign up! \nIf you want daily inspiration\, community\, and a group of forager and medicine-making friends\, join our Herbal Village today. The Herbal Village is available via a small membership fee of 9\,97$ a month for ongoing learning and connection. \nDon’t want to pay for your village membership? No problem – enroll in one of our courses or programs\, and get a FREE membership into the Herbal Village. In October and November\, we’re going deep into the world of mycology. See you on the forest side!
URL:https://test.wildrosecollege.com/event/october-mushroom-madness/
LOCATION:Wild Rose Herbal College\, Canada
CATEGORIES:Course & Training
ATTACH;FMTTYPE=image/jpeg:https://uploads.wildrosecollege.com/wildrose/uploads/2020/05/9f7012eb-d53a-4bb8-97b2-f24e9f58990b.jpg
END:VEVENT
BEGIN:VEVENT
DTSTART;TZID=America/Vancouver:20201013T190000
DTEND;TZID=America/Vancouver:20201013T200000
DTSTAMP:20260424T073549
CREATED:20201008T152241Z
LAST-MODIFIED:20201009T150354Z
UID:269610-1602615600-1602619200@test.wildrosecollege.com
SUMMARY:Mushroom Madness Free Webinar
DESCRIPTION:Mushroom Madness: Medicine\, Mycology & More\nJoin us for a free webinar with Wild Rose College Director\, Yarrow Willard on October 13th. \nIn this seasonal offering\, Yarrow will be discussing all things mushrooms: \n-How and where Mushrooms show up in the world\n-Understanding their relationship with people and plants\n-Overview of the basic Chemistry and how to extract the properties of mushrooms\n-Benefits of the top medicinal Mushrooms\n-…and more! \nDate: Tuesday\, October 13\, 2020\nTime: 7pm Pacific (8 pm Mountain\, 9 pm Central\, 10pm Eastern) \nA replay will be available for registrants. \nRegister here to join: \n[gravityform id=”5″ title=”false” description=”false”]
URL:https://test.wildrosecollege.com/event/mushroom-madness-medicine-mycology-more/
CATEGORIES:Free Webinars
ATTACH;FMTTYPE=image/jpeg:https://uploads.wildrosecollege.com/wildrose/uploads/2019/10/Turkey-tail.jpg
END:VEVENT
END:VCALENDAR